BEGIN:VCALENDAR
VERSION:2.0
PRODID:-//Floris United Methodist Church - ECPv6.15.20//NONSGML v1.0//EN
CALSCALE:GREGORIAN
METHOD:PUBLISH
X-ORIGINAL-URL:https://www.florisumc.org
X-WR-CALDESC:Events for Floris United Methodist Church
REFRESH-INTERVAL;VALUE=DURATION:PT1H
X-Robots-Tag:noindex
X-PUBLISHED-TTL:PT1H
BEGIN:VTIMEZONE
TZID:America/New_York
BEGIN:DAYLIGHT
TZOFFSETFROM:-0500
TZOFFSETTO:-0400
TZNAME:EDT
DTSTART:20240310T070000
END:DAYLIGHT
BEGIN:STANDARD
TZOFFSETFROM:-0400
TZOFFSETTO:-0500
TZNAME:EST
DTSTART:20241103T060000
END:STANDARD
BEGIN:DAYLIGHT
TZOFFSETFROM:-0500
TZOFFSETTO:-0400
TZNAME:EDT
DTSTART:20250309T070000
END:DAYLIGHT
BEGIN:STANDARD
TZOFFSETFROM:-0400
TZOFFSETTO:-0500
TZNAME:EST
DTSTART:20251102T060000
END:STANDARD
BEGIN:DAYLIGHT
TZOFFSETFROM:-0500
TZOFFSETTO:-0400
TZNAME:EDT
DTSTART:20260308T070000
END:DAYLIGHT
BEGIN:STANDARD
TZOFFSETFROM:-0400
TZOFFSETTO:-0500
TZNAME:EST
DTSTART:20261101T060000
END:STANDARD
END:VTIMEZONE
BEGIN:VEVENT
DTSTART;TZID=America/New_York:20250824T100000
DTEND;TZID=America/New_York:20250824T100000
DTSTAMP:20260423T130426
CREATED:20250513T182901Z
LAST-MODIFIED:20250729T132433Z
UID:10007309-1756029600-1756029600@www.florisumc.org
SUMMARY:Summer Choir Sundays
DESCRIPTION:Summer Choir Sundays\nSing. Lead. Belong.\nDo you love to sing? Have you ever wondered what it’s like to help lead worship through music? This summer\, we’re inviting people of all ages—from 2nd grade through adults—to be part of Summer Choir Sundays\, a special opportunity to lift your voice\, grow in confidence\, and experience the joy of leading worship as part of a choir. \nYou don’t need to be a professional singer or read music perfectly—just bring your energy\, enthusiasm\, and a heart ready to worship. \nWe’re gathering on Sunday\, July 27 and Sunday\, August 24\, for two special choir Sundays. \n\nMeet at 10:00am in the Music Room\nLearn an anthem and the hymns for that day\nLead worship at 11:00am with the full congregation\n\nThis is a fantastic way to: \n\nTry out choir in a relaxed\, low-pressure environment\nSing alongside friends\, family\, and fellow worshipers\nBe part of a warm welcoming music ministry\nAdd your voice to something meaningful this summer\n\nWhether you’re a seasoned choir member or singing with us for the very first time\, there’s a place for you. Children\, youth\, and adults are all welcome—this is truly an intergenerational experience. \nNo long-term commitment—just come\, sing\, and serve when you can. \nMark your calendar—and let us know you’re coming. \nRegister Now >\nWant to explore more ways to get involved through music? Visit Our Music Ministry
URL:https://www.florisumc.org/event/summer-choir/2025-08-24/
LOCATION:Floris UMC\, 13600 Frying Pan Road\, Herndon\, VA\, 20171
CATEGORIES:Music,Summer Choir
ATTACH;FMTTYPE=image/jpeg:https://www.florisumc.org/wp-content/uploads/2025/05/2024-MM-SUMMER-CHOIR-WEB-982x519-1.jpg
END:VEVENT
BEGIN:VEVENT
DTSTART;TZID=America/New_York:20250824T100000
DTEND;TZID=America/New_York:20250824T100000
DTSTAMP:20260423T130426
CREATED:20250814T141222Z
LAST-MODIFIED:20250814T141222Z
UID:10007411-1756029600-1756029600@www.florisumc.org
SUMMARY:Serve Spotlight
DESCRIPTION:Serve Spotlight – Discover Your Joy in Serving\nOn Sunday\, August 24\, we invite you to take the next step in living out our church’s vision to Serve Joyfully. We’ll be hosting a Serve Spotlight just outside the Sanctuary after the 9am and 11am services. Join this focused and meaningful opportunity to connect with ministries that need your gifts and talents. \nYou’ll find three ministry tables\, each representing a unique way to make a difference in our church and community. Whether you have a heart for hospitality\, a talent for organizing\, or simply want to meet people and see where you might get involved\, this is your chance to explore where God may be calling you. \nServing isn’t just about filling a need—it’s about discovering joy. As our sermon that morning will remind us\, serving is one of the most powerful ways we can live out our faith\, grow in community\, and share God’s love in tangible ways. Even small acts of service can have a big impact\, both for those we serve and for our own spiritual growth. \nHere’s how you can participate: \n\nStop by the tables after worship on August 24.\nChat with ministry leaders and volunteers.\nAsk questions\, gather information\, and see where your skills might fit.\nTake the first step toward a joyful serving experience.\n\nIt’s a casual\, no-pressure environment—just a chance to explore\, be inspired\, and see how you might plug in. \nMark your calendar now! Don’t miss this simple but powerful opportunity to find your place in serving joyfully. \nEvent Details:\nDate: Sunday\, August 24\nTime: 10am & 12pm\nLocation: Outside the Sanctuary
URL:https://www.florisumc.org/event/serve-spotlight/
LOCATION:Floris UMC\, 13600 Frying Pan Road\, Herndon\, VA\, 20171
CATEGORIES:Serve
ATTACH;FMTTYPE=image/png:https://www.florisumc.org/wp-content/uploads/2025/08/Spotlight.png
ORGANIZER;CN="Debbie Cali":MAILTO:dcali@florisumc.org
END:VEVENT
END:VCALENDAR