BEGIN:VCALENDAR
VERSION:2.0
PRODID:-//Floris United Methodist Church - ECPv6.15.20//NONSGML v1.0//EN
CALSCALE:GREGORIAN
METHOD:PUBLISH
X-WR-CALNAME:Floris United Methodist Church
X-ORIGINAL-URL:https://www.florisumc.org
X-WR-CALDESC:Events for Floris United Methodist Church
REFRESH-INTERVAL;VALUE=DURATION:PT1H
X-Robots-Tag:noindex
X-PUBLISHED-TTL:PT1H
BEGIN:VTIMEZONE
TZID:America/New_York
BEGIN:DAYLIGHT
TZOFFSETFROM:-0500
TZOFFSETTO:-0400
TZNAME:EDT
DTSTART:20240310T070000
END:DAYLIGHT
BEGIN:STANDARD
TZOFFSETFROM:-0400
TZOFFSETTO:-0500
TZNAME:EST
DTSTART:20241103T060000
END:STANDARD
BEGIN:DAYLIGHT
TZOFFSETFROM:-0500
TZOFFSETTO:-0400
TZNAME:EDT
DTSTART:20250309T070000
END:DAYLIGHT
BEGIN:STANDARD
TZOFFSETFROM:-0400
TZOFFSETTO:-0500
TZNAME:EST
DTSTART:20251102T060000
END:STANDARD
BEGIN:DAYLIGHT
TZOFFSETFROM:-0500
TZOFFSETTO:-0400
TZNAME:EDT
DTSTART:20260308T070000
END:DAYLIGHT
BEGIN:STANDARD
TZOFFSETFROM:-0400
TZOFFSETTO:-0500
TZNAME:EST
DTSTART:20261101T060000
END:STANDARD
END:VTIMEZONE
BEGIN:VEVENT
DTSTART;VALUE=DATE:20250901
DTEND;VALUE=DATE:20251031
DTSTAMP:20260424T091201
CREATED:20250826T175740Z
LAST-MODIFIED:20250903T151512Z
UID:10007415-1756684800-1761868799@www.florisumc.org
SUMMARY:Yoon Nam - Prayer Garden
DESCRIPTION:Experience Art that Connects Faith\, Creativity\, and Community with Yoon Nam’s Prayer Garden Exhibit\nThe Floris Art Gallery invites you to experience this month’s featured collection – Yoon Nam’s Prayer Garden – a heartfelt exploration of faith and creativity born out of unexpected beginnings. \nDuring the pandemic\, many of us searched for new ways to find peace and purpose in uncertain times. For this month’s artist\, that journey began with simple YouTube tutorials and a paintbrush. What started as a pastime soon transformed into a spiritual practice—a way of slowing down\, listening\, and becoming more aware of God’s presence in the quiet moments of each day. \nThough not formally trained\, the artist discovered that painting could be more than just creating images on canvas. Each brushstroke became both a prayer and a reflection\, offering gratitude for the gift of life. Through this practice\, a deeper way of seeing the world emerged—one that celebrates simplicity\, beauty\, and stillness. \nThe collection features scenes of nature—trees reaching toward the sky\, flowers bursting with color\, waterscapes reflecting peace\, and skies alive with light. These works are not simply depictions of creation but invitations to experience it anew. They remind us that God’s beauty is always present—in the ordinary\, in the quiet\, and in the wonder we often overlook. \nWhen you visit the Floris Art Gallery this month\, you’ll encounter more than artwork on the walls. You’ll step into a space where faith and creativity meet\, where each piece is an offering of hope\, gratitude\, and awe. Whether you are an art enthusiast\, a seeker of spiritual reflection\, or simply someone who longs for a moment of stillness\, this exhibition offers a place to pause\, breathe\, and be renewed. \nLearn more about this month’s exhibition on our Art Gallery page. \nThe Floris Art Gallery also welcomes artists in our community to share their gifts. If you are interested in submitting your own work for consideration\, we invite you to apply to exhibit with us. \nCome and experience art that draws you closer to God\, to creation\, and to community.
URL:https://www.florisumc.org/event/yoon-nam-prayer-garden/
LOCATION:Floris UMC\, 13600 Frying Pan Road\, Herndon\, VA\, 20171
CATEGORIES:Art Gallery
ATTACH;FMTTYPE=image/png:https://www.florisumc.org/wp-content/uploads/2025/08/Social-Justice-5.png
END:VEVENT
BEGIN:VEVENT
DTSTART;TZID=America/New_York:20251009T173000
DTEND;TZID=America/New_York:20251009T183000
DTSTAMP:20260424T091201
CREATED:20241203T041247Z
LAST-MODIFIED:20241203T042604Z
UID:10006745-1760031000-1760034600@www.florisumc.org
SUMMARY:Happy Hour Big Book Meeting
DESCRIPTION:Alcoholics Anonymous Meetings at Floris UMC \n\nAlcoholics Anonymous is a fellowship of people who come together to solve their drinking problem. It doesn’t cost anything to attend A.A. meetings. There are no age or education requirements to participate. Membership is open to anyone who wants to do something about their drinking problem. Anyone with a desire to stop drinking is welcome\, regardless of race\, gender\, sexual orientation\, religion\, income or profession. And it’s free. At meetings you can just sit and listen and learn more about recovery\, or you can share about your situation. It’s completely up to you. A.A.’s primary purpose is to help alcoholics achieve sobriety.\nAlcoholics Anonymous >  |  Virginia AA >\n  \nFor more information\, contact us at florishappyhour@gmail.com.
URL:https://www.florisumc.org/event/aa-3/2025-10-09/
LOCATION:Floris UMC\, 13600 Frying Pan Road\, Herndon\, VA\, 20171
CATEGORIES:AA,Alcoholics Anonymous®,Support Group,Virtually
ATTACH;FMTTYPE=image/jpeg:https://www.florisumc.org/wp-content/uploads/2024/02/CS_AA-2024.jpg
ORGANIZER;CN="Carol Benson":MAILTO:cbenson@florisumc.org
END:VEVENT
BEGIN:VEVENT
DTSTART;TZID=America/New_York:20251009T180000
DTEND;TZID=America/New_York:20251009T190000
DTSTAMP:20260424T091201
CREATED:20251003T185838Z
LAST-MODIFIED:20251020T191835Z
UID:10008373-1760032800-1760036400@www.florisumc.org
SUMMARY:Pride Alliance Meetings
DESCRIPTION:Pride Alliance at Floris UMC\nThe Pride Alliance at Floris UMC is a vibrant\, welcoming community dedicated to fostering an inclusive and affirming environments for all individuals—regardless of sexual orientation or gender identity. We believe that every person is a beloved child of God\, deserving of respect\, love\, and belonging. \nOur mission is to create meaningful change both within our church and across the broader United Methodist denomination. We work closely with the Floris UMC Church Council to offer thoughtful recommendations and to help carry out approved actions that reflect our core values of love\, justice\, and equality. From advocating for inclusive language and policies to supporting initiatives that remove discrimination against LGBTQ+ individuals\, our efforts are rooted in faith and guided by the desire to see every person welcomed fully into the life of the church. \nThe Pride Alliance also serves as a restoration ministry\, intentionally engaging in conversations and actions that address inequities and challenge barriers faced by LGBTQ+ members in the church. Our work is both practical and spiritual: we advocate for systemic change while nurturing a safe\, supportive space for individuals to grow in their faith. \nMost importantly\, the Pride Alliance is a community of support\, love\, and healing. Whether you are exploring your faith\, seeking a space where you can be fully yourself\, or looking to connect with others committed to equality\, we are here to walk alongside you. \nJoin us and be part of a community committed to love\, equity\, and meaningful transformation. \nLearn More >
URL:https://www.florisumc.org/event/pride-alliance/2025-10-09/
LOCATION:VA
CATEGORIES:Pride Alliance
ATTACH;FMTTYPE=image/png:https://www.florisumc.org/wp-content/uploads/2025/10/Pride-Alliance.png
ORGANIZER;CN="Megan Dietrick":MAILTO:mDietrick@florisumc.org
END:VEVENT
END:VCALENDAR