BEGIN:VCALENDAR
VERSION:2.0
PRODID:-//Floris United Methodist Church - ECPv6.15.20//NONSGML v1.0//EN
CALSCALE:GREGORIAN
METHOD:PUBLISH
X-ORIGINAL-URL:https://www.florisumc.org
X-WR-CALDESC:Events for Floris United Methodist Church
REFRESH-INTERVAL;VALUE=DURATION:PT1H
X-Robots-Tag:noindex
X-PUBLISHED-TTL:PT1H
BEGIN:VTIMEZONE
TZID:America/New_York
BEGIN:DAYLIGHT
TZOFFSETFROM:-0500
TZOFFSETTO:-0400
TZNAME:EDT
DTSTART:20240310T070000
END:DAYLIGHT
BEGIN:STANDARD
TZOFFSETFROM:-0400
TZOFFSETTO:-0500
TZNAME:EST
DTSTART:20241103T060000
END:STANDARD
BEGIN:DAYLIGHT
TZOFFSETFROM:-0500
TZOFFSETTO:-0400
TZNAME:EDT
DTSTART:20250309T070000
END:DAYLIGHT
BEGIN:STANDARD
TZOFFSETFROM:-0400
TZOFFSETTO:-0500
TZNAME:EST
DTSTART:20251102T060000
END:STANDARD
BEGIN:DAYLIGHT
TZOFFSETFROM:-0500
TZOFFSETTO:-0400
TZNAME:EDT
DTSTART:20260308T070000
END:DAYLIGHT
BEGIN:STANDARD
TZOFFSETFROM:-0400
TZOFFSETTO:-0500
TZNAME:EST
DTSTART:20261101T060000
END:STANDARD
END:VTIMEZONE
BEGIN:VEVENT
DTSTART;VALUE=DATE:20251024
DTEND;VALUE=DATE:20251124
DTSTAMP:20260423T090004
CREATED:20251024T152325Z
LAST-MODIFIED:20251117T213243Z
UID:10008397-1761264000-1763942399@www.florisumc.org
SUMMARY:Floris Art Gallery Open Call for Artists
DESCRIPTION:Floris Art Gallery Open Call for Artists\nTheme: Love Boldly. Serve Joyfully. Lead Courageously.Submission Deadline: November 23\, 2025Exhibit Dates: January 21 – February 28\, 2026 \n\nEvent Description\nDo you express your faith through art? Whether you paint\, sculpt\, photograph\, or create with fiber or mixed media\, the Floris Art Gallery invites you to be part of our next community exhibit. This upcoming show\, “Love Boldly\, Serve Joyfully\, Lead Courageously\,” will celebrate the ways our congregation and staff embody these core values through creativity and imagination. \nArt has always been a reflection of the divine spark within us—a way to communicate truth\, hope\, and beauty that words alone cannot express. At Floris\, we believe creativity is one of the many ways we live out our faith. This exhibit provides a space for artists within our church community to share their gifts and inspire others to see God’s presence in new and meaningful ways. \nWe welcome submissions from all mediums and experience levels. Whether you’re a lifelong artist or just beginning to explore your creative side\, your work can be a powerful expression of faith that moves and uplifts others. Selected works will be featured in the Floris Art Gallery throughout January and February 2026. \nJoin us as we fill our gallery with the colors\, textures\, and stories of our own community—each piece a reflection of what it means to love boldly\, serve joyfully\, and lead courageously in today’s world. \n\nHow to Submit\nPlease submit your artwork by November 23\, 2025.Visit florisumc.org/art-gallery \nCome share your gifts\, celebrate creativity\, and help us bring faith to life through art.
URL:https://www.florisumc.org/event/open-call/
LOCATION:Floris UMC\, 13600 Frying Pan Road\, Herndon\, VA\, 20171
CATEGORIES:Art Gallery
ATTACH;FMTTYPE=image/png:https://www.florisumc.org/wp-content/uploads/2025/10/6.8.25-Art-Gallery-Following-My-Own-Path-1-e1763415155508.png
END:VEVENT
BEGIN:VEVENT
DTSTART;VALUE=DATE:20251114
DTEND;VALUE=DATE:20251117
DTSTAMP:20260423T090004
CREATED:20250909T192633Z
LAST-MODIFIED:20251020T155653Z
UID:10007547-1763078400-1763337599@www.florisumc.org
SUMMARY:Student Fall Retreat
DESCRIPTION:Student Fall Retreat – Deepen Faith\, Build Community\nAll students are invited to join Floris UMC for the Student Fall Retreat at Camp Highroad\, a weekend designed to grow in faith\, strengthen friendships\, and build community. \nThroughout the retreat\, students will participate in exciting camp activities that foster teamwork\, fun\, and connection. From outdoor challenges to interactive games\, every activity offers a chance to make memories and engage with others. \nThe retreat also features large group teaching sessions led by dynamic leaders\, giving students opportunities to explore their faith on a deeper level. In small group discussions\, students can reflect\, ask questions\, and share experiences in a safe and supportive environment\, creating strong bonds and meaningful spiritual growth. \nThe Student Fall Retreat is more than just activities and lessons—it’s about community\, reflection\, and connection. Whether it’s sharing laughter in a game\, engaging in meaningful discussion\, or having quiet moments of prayer\, this weekend provides space for students to grow in every way. \nDon’t miss this opportunity for adventure\, faith\, and friendship! Register now to secure your spot and join us for a transformative weekend. \nEvent Details: \n\nDates & Times: November 14\, 6:00 p.m. – November 16\, 12:00 p.m.\nGrades: 6–12\nCost: $200 if registered by September 30; $225 beginning October 5\nLocation: Camp Highroad\nRegister Here
URL:https://www.florisumc.org/event/student-fall-retreat/
LOCATION:Floris UMC\, 13600 Frying Pan Road\, Herndon\, VA\, 20171
CATEGORIES:Bright Life,Retreat,XRoads
ATTACH;FMTTYPE=image/png:https://www.florisumc.org/wp-content/uploads/2025/09/Web-1.png
ORGANIZER;CN="Kara Stuebing":MAILTO:kstuebing@florisumc.org
END:VEVENT
BEGIN:VEVENT
DTSTART;TZID=America/New_York:20251115T110000
DTEND;TZID=America/New_York:20251115T160000
DTSTAMP:20260423T090004
CREATED:20250117T172530Z
LAST-MODIFIED:20250627T165121Z
UID:10007112-1763204400-1763222400@www.florisumc.org
SUMMARY:Creative Community
DESCRIPTION:Join Our Creative Community and Let’s Get Creative!\n\nInvite a friend and join us in a time of connection and fellowship as we spend a day crafting together at Creative Community. \n\n\nWe provide the creative space – you bring your craft project! \n\n\nThese events are free for adults and teens(14 and up). \n\nFor more information\, contact Tracy Janiak.\n\nLEARN MORE > 
URL:https://www.florisumc.org/event/creative-community/2025-11-15/
LOCATION:Floris UMC\, 13600 Frying Pan Road\, Herndon\, VA\, 20171
CATEGORIES:Adult,Adult Community,Creative Community
ATTACH;FMTTYPE=image/png:https://www.florisumc.org/wp-content/uploads/2025/01/Outdoor-Communion-43.png
ORGANIZER;CN="Laura Downs":MAILTO:ldowns@florisumc.org
END:VEVENT
END:VCALENDAR