BEGIN:VCALENDAR
VERSION:2.0
PRODID:-//Floris United Methodist Church - ECPv6.15.20//NONSGML v1.0//EN
CALSCALE:GREGORIAN
METHOD:PUBLISH
X-ORIGINAL-URL:https://www.florisumc.org
X-WR-CALDESC:Events for Floris United Methodist Church
REFRESH-INTERVAL;VALUE=DURATION:PT1H
X-Robots-Tag:noindex
X-PUBLISHED-TTL:PT1H
BEGIN:VTIMEZONE
TZID:America/New_York
BEGIN:DAYLIGHT
TZOFFSETFROM:-0500
TZOFFSETTO:-0400
TZNAME:EDT
DTSTART:20250309T070000
END:DAYLIGHT
BEGIN:STANDARD
TZOFFSETFROM:-0400
TZOFFSETTO:-0500
TZNAME:EST
DTSTART:20251102T060000
END:STANDARD
BEGIN:DAYLIGHT
TZOFFSETFROM:-0500
TZOFFSETTO:-0400
TZNAME:EDT
DTSTART:20260308T070000
END:DAYLIGHT
BEGIN:STANDARD
TZOFFSETFROM:-0400
TZOFFSETTO:-0500
TZNAME:EST
DTSTART:20261101T060000
END:STANDARD
BEGIN:DAYLIGHT
TZOFFSETFROM:-0500
TZOFFSETTO:-0400
TZNAME:EDT
DTSTART:20270314T070000
END:DAYLIGHT
BEGIN:STANDARD
TZOFFSETFROM:-0400
TZOFFSETTO:-0500
TZNAME:EST
DTSTART:20271107T060000
END:STANDARD
END:VTIMEZONE
BEGIN:VEVENT
DTSTART;TZID=America/New_York:20260110T100000
DTEND;TZID=America/New_York:20260110T120000
DTSTAMP:20260425T143633
CREATED:20241129T185559Z
LAST-MODIFIED:20241216T200003Z
UID:10007392-1768039200-1768046400@www.florisumc.org
SUMMARY:Prayer Blanket Ministry
DESCRIPTION:Do you enjoy knitting\, crocheting or quilting? Join us on the second Saturday of each month at 10a.m. for community and conversation as we share ideas and create blankets and quilts for others. All skill levels and abilities are welcome\, from beginners to advanced! Make new friends\, create new projects and learn new tips. We enjoy socializing and prayer as we make special blankets\, shawls and quilts for those experiencing difficult life situations. \nDo you know someone who would enjoy feeling the love of God by receiving a prayer blanket? Members of the Prayer Blanket Ministry pray over shawls\, blankets and quilts as they lovingly create them. \nPrayer Blanket Ministry >\nFor more information\, or to sign up\, contact Carol Benson at cbenson@florisumc.org.
URL:https://www.florisumc.org/event/prayer-blanket-ministry/2026-01-10/
LOCATION:Floris UMC\, 13600 Frying Pan Road\, Herndon\, VA\, 20171
CATEGORIES:Adult,Prayer Blanket Ministry
ATTACH;FMTTYPE=image/jpeg:https://www.florisumc.org/wp-content/uploads/2022/11/CS_Prayer_Blanket_982x519.jpg
ORGANIZER;CN="Carol Benson":MAILTO:cbenson@florisumc.org
END:VEVENT
END:VCALENDAR