BEGIN:VCALENDAR
VERSION:2.0
PRODID:-//Floris United Methodist Church - ECPv6.15.20//NONSGML v1.0//EN
CALSCALE:GREGORIAN
METHOD:PUBLISH
X-WR-CALNAME:Floris United Methodist Church
X-ORIGINAL-URL:https://www.florisumc.org
X-WR-CALDESC:Events for Floris United Methodist Church
REFRESH-INTERVAL;VALUE=DURATION:PT1H
X-Robots-Tag:noindex
X-PUBLISHED-TTL:PT1H
BEGIN:VTIMEZONE
TZID:America/New_York
BEGIN:DAYLIGHT
TZOFFSETFROM:-0500
TZOFFSETTO:-0400
TZNAME:EDT
DTSTART:20250309T070000
END:DAYLIGHT
BEGIN:STANDARD
TZOFFSETFROM:-0400
TZOFFSETTO:-0500
TZNAME:EST
DTSTART:20251102T060000
END:STANDARD
BEGIN:DAYLIGHT
TZOFFSETFROM:-0500
TZOFFSETTO:-0400
TZNAME:EDT
DTSTART:20260308T070000
END:DAYLIGHT
BEGIN:STANDARD
TZOFFSETFROM:-0400
TZOFFSETTO:-0500
TZNAME:EST
DTSTART:20261101T060000
END:STANDARD
BEGIN:DAYLIGHT
TZOFFSETFROM:-0500
TZOFFSETTO:-0400
TZNAME:EDT
DTSTART:20270314T070000
END:DAYLIGHT
BEGIN:STANDARD
TZOFFSETFROM:-0400
TZOFFSETTO:-0500
TZNAME:EST
DTSTART:20271107T060000
END:STANDARD
END:VTIMEZONE
BEGIN:VEVENT
DTSTART;TZID=America/New_York:20260313T173000
DTEND;TZID=America/New_York:20260313T190000
DTSTAMP:20260424T013527
CREATED:20260203T150423Z
LAST-MODIFIED:20260305T193800Z
UID:10008599-1773423000-1773428400@www.florisumc.org
SUMMARY:Messy Church: Pretzels and Prayers
DESCRIPTION:Messy Church: Pretzels and Prayers\n\nJoin us for a dough-licious time of faith\, food\, and fun \nWhen: Friday\, March 13 | 5:30–7:00 pm\n \nMessy Church is a relaxed\, hands-on worship experience for all ages. Kids\, parents\, grandparents\, and caregivers are all welcome to come as they are and experience church in a creative and joyful way. \nWhat to Expect\n\nDinner Together\n\nWe’ll start the evening by sharing pizza and pretzels. Gathering around the table helps us slow down\, connect\, and build community. \nMusic & Story\n\nAfter dinner\, we’ll enjoy music and a short\, interactive story that helps us reflect on Lent and prepare our hearts for Easter.Pretzels and Prayers Theme\n \nPretzels have long been a symbol of prayer. This month\, we’ll explore how prayer can be simple\, meaningful\, and part of everyday life. \nHands-On Fun with Dough\n\nEveryone will get to play with dough\, twist and shape creations\, and explore faith through creativity. It’s okay to get messy. That’s part of the fun. \nSign Up > \nCome hungry\, bring your curiosity\, and get ready for a joyful night of Pretzels and Prayers. We can’t wait to see you at Messy Church this March.
URL:https://www.florisumc.org/event/messy-church-pretzels-and-prayers/
LOCATION:Floris UMC\, 13600 Frying Pan Road\, Herndon\, VA\, 20171
CATEGORIES:Children's Ministry,Messy Church
ATTACH;FMTTYPE=image/png:https://www.florisumc.org/wp-content/uploads/2026/02/Web-Version-982x519-1.png
ORGANIZER;CN="Wendy Hilbert":MAILTO:whilbert@florisumc.org
END:VEVENT
END:VCALENDAR