BEGIN:VCALENDAR
VERSION:2.0
PRODID:-//Floris United Methodist Church - ECPv6.15.20//NONSGML v1.0//EN
CALSCALE:GREGORIAN
METHOD:PUBLISH
X-WR-CALNAME:Floris United Methodist Church
X-ORIGINAL-URL:https://www.florisumc.org
X-WR-CALDESC:Events for Floris United Methodist Church
REFRESH-INTERVAL;VALUE=DURATION:PT1H
X-Robots-Tag:noindex
X-PUBLISHED-TTL:PT1H
BEGIN:VTIMEZONE
TZID:America/New_York
BEGIN:DAYLIGHT
TZOFFSETFROM:-0500
TZOFFSETTO:-0400
TZNAME:EDT
DTSTART:20250309T070000
END:DAYLIGHT
BEGIN:STANDARD
TZOFFSETFROM:-0400
TZOFFSETTO:-0500
TZNAME:EST
DTSTART:20251102T060000
END:STANDARD
BEGIN:DAYLIGHT
TZOFFSETFROM:-0500
TZOFFSETTO:-0400
TZNAME:EDT
DTSTART:20260308T070000
END:DAYLIGHT
BEGIN:STANDARD
TZOFFSETFROM:-0400
TZOFFSETTO:-0500
TZNAME:EST
DTSTART:20261101T060000
END:STANDARD
BEGIN:DAYLIGHT
TZOFFSETFROM:-0500
TZOFFSETTO:-0400
TZNAME:EDT
DTSTART:20270314T070000
END:DAYLIGHT
BEGIN:STANDARD
TZOFFSETFROM:-0400
TZOFFSETTO:-0500
TZNAME:EST
DTSTART:20271107T060000
END:STANDARD
END:VTIMEZONE
BEGIN:VEVENT
DTSTART;TZID=America/New_York:20260515T173000
DTEND;TZID=America/New_York:20260515T190000
DTSTAMP:20260423T111108
CREATED:20260311T184412Z
LAST-MODIFIED:20260408T152900Z
UID:10008708-1778866200-1778871600@www.florisumc.org
SUMMARY:Messy Church: Grow with God
DESCRIPTION:Plant Seeds of Faith at Messy Church!\nBring your family for a fun\, hands-on evening at Grow with God Messy Church. This special event is designed for families of all ages to come together\, explore faith\, and enjoy a night of creativity\, learning\, and connection. \nExplore\, Create\, and Grow\nAt Messy Church\, faith comes alive through interactive activities\, music\, and crafts. This session\, we’ll focus on the Parable of the Sower\, exploring how faith can grow when it is nurtured in our hearts and in our communities. Families will have the opportunity to engage in hands-on learning and participate in meaningful conversations about God’s love. \nA highlight of the evening is a flowerpot craft that each family can take home. This activity allows children and adults alike to plant seeds\, decorate their pots\, and watch their faith and creativity grow over time. It’s a memorable keepsake and a fun way to reinforce the lessons of the evening. \nFun for the Whole Family\nMessy Church is not just about crafts and activities. The night also includes: \n\nLive music to sing\, dance\, and celebrate together\nDelicious dinner served family-style\nOpportunities to meet other families in a warm\, welcoming environment\nGames\, laughter\, and shared experiences that make faith accessible and fun\n\nEvent Details and Cost\n\nDate: [Insert Event Date]\nLocation: [Insert Location]\nCost: $5 per person\n\nRegister Now >\nSecure your spot today by registering online: Register Here > \nWhy Attend\nGrow with God Messy Church provides a unique space for families to connect\, learn\, and grow in faith together. Children gain hands-on experiences that help them understand spiritual lessons\, while parents and guardians have the chance to engage in meaningful conversations and share in the joy of family worship. \nCome join us for Grow with God Messy Church\, where faith grows\, friendships blossom\, and families leave inspired\, encouraged\, and ready to carry God’s love into their everyday lives.
URL:https://www.florisumc.org/event/messy-church-grow-with-god/
LOCATION:Floris UMC\, 13600 Frying Pan Road\, Herndon\, VA\, 20171
CATEGORIES:Children's Ministry,Messy Church
ATTACH;FMTTYPE=image/png:https://www.florisumc.org/wp-content/uploads/2026/03/Untitled-design-e1775662133898.png
ORGANIZER;CN="Wendy Hilbert":MAILTO:whilbert@florisumc.org
END:VEVENT
END:VCALENDAR