BEGIN:VCALENDAR
VERSION:2.0
PRODID:-//Floris United Methodist Church - ECPv6.15.20//NONSGML v1.0//EN
CALSCALE:GREGORIAN
METHOD:PUBLISH
X-ORIGINAL-URL:https://www.florisumc.org
X-WR-CALDESC:Events for Floris United Methodist Church
REFRESH-INTERVAL;VALUE=DURATION:PT1H
X-Robots-Tag:noindex
X-PUBLISHED-TTL:PT1H
BEGIN:VTIMEZONE
TZID:America/New_York
BEGIN:DAYLIGHT
TZOFFSETFROM:-0500
TZOFFSETTO:-0400
TZNAME:EDT
DTSTART:20250309T070000
END:DAYLIGHT
BEGIN:STANDARD
TZOFFSETFROM:-0400
TZOFFSETTO:-0500
TZNAME:EST
DTSTART:20251102T060000
END:STANDARD
BEGIN:DAYLIGHT
TZOFFSETFROM:-0500
TZOFFSETTO:-0400
TZNAME:EDT
DTSTART:20260308T070000
END:DAYLIGHT
BEGIN:STANDARD
TZOFFSETFROM:-0400
TZOFFSETTO:-0500
TZNAME:EST
DTSTART:20261101T060000
END:STANDARD
BEGIN:DAYLIGHT
TZOFFSETFROM:-0500
TZOFFSETTO:-0400
TZNAME:EDT
DTSTART:20270314T070000
END:DAYLIGHT
BEGIN:STANDARD
TZOFFSETFROM:-0400
TZOFFSETTO:-0500
TZNAME:EST
DTSTART:20271107T060000
END:STANDARD
END:VTIMEZONE
BEGIN:VEVENT
DTSTART;TZID=America/New_York:20260218T190000
DTEND;TZID=America/New_York:20260218T190000
DTSTAMP:20260425T110812
CREATED:20260204T182251Z
LAST-MODIFIED:20260213T211420Z
UID:10008615-1771441200-1771441200@www.florisumc.org
SUMMARY:Ash Wednesday
DESCRIPTION:Ash Wednesday Service\nBegin Your Lenten Journey Together \nAsh Wednesday marks the beginning of Lent — a sacred season of reflection\, repentance\, and renewal. Floris United Methodist Church and Restoration UMC invite you to begin this holy journey by attending our Ash Wednesday Service\, offered both in person and online. \nWhether you join us in the sanctuary or participate from home\, this service offers a meaningful opportunity to pause\, pray\, and reorient your heart toward God as we prepare for Easter. \n\nWhat to Expect in Worship\nThis service centers on encountering Jesus through prayerful\, time-honored practices that ground us at the start of Lent. Together\, we will: \n\nSing and pray as a community\nHear scripture and reflection for the Lenten season\nReceive the imposition of ashes\, a visible sign of our humanity and our hope\n\nThe ashes remind us of our mortality — “from dust we came” — while also pointing us toward the promise of new life that God brings even from the ashes of our lives. \n\nPancake Supper Before the Service\nJoin us before the service for a pancake supper\, offering a warm\, welcoming space to share a meal and connect with others. \n\nTime: 5:30pm – 6:45pm\nOpen to individuals and families\nA simple\, hospitable way to begin the evening together\nRegistration is required for the pancake supper\n\nRegister Now > \n\nFamily Worship Before Service\nFamilies planning to attend Ash Wednesday Family Worship will gather in the Gathering Space near the chapel at 6:15 p.m. for a brief\, meaningful service where adults and children alike will learn about the ritual and receive ashes. \n\nJoin In Person or Online\n\nIn Person: Attend worship at Floris UMC Church\nOnline: Join us via livestream from wherever you are\n\nBoth options provide a meaningful way to participate in this sacred moment as Lent begins. \n\nWhy Attend?\n\nBegin the Lenten season with intention and prayer\nShare a meal and fellowship with the community\nParticipate in a meaningful act of worship and reflection\nGround your journey toward Easter in grace and hope\n\nWe invite you to make space for this holy pause. Come as you are\, gather around the table\, and enter Lent together — grounded in faith\, community\, and the promise of new life.
URL:https://www.florisumc.org/event/ash-wednesday/
LOCATION:Floris UMC\, 13600 Frying Pan Road\, Herndon\, VA\, 20171
CATEGORIES:Church Service,Indoor Worship
ATTACH;FMTTYPE=image/png:https://www.florisumc.org/wp-content/uploads/2026/02/2.18.26-Ash-Wednesday.png
END:VEVENT
END:VCALENDAR