BEGIN:VCALENDAR
VERSION:2.0
PRODID:-//Floris United Methodist Church - ECPv6.15.20//NONSGML v1.0//EN
CALSCALE:GREGORIAN
METHOD:PUBLISH
X-WR-CALNAME:Floris United Methodist Church
X-ORIGINAL-URL:https://www.florisumc.org
X-WR-CALDESC:Events for Floris United Methodist Church
REFRESH-INTERVAL;VALUE=DURATION:PT1H
X-Robots-Tag:noindex
X-PUBLISHED-TTL:PT1H
BEGIN:VTIMEZONE
TZID:America/New_York
BEGIN:DAYLIGHT
TZOFFSETFROM:-0500
TZOFFSETTO:-0400
TZNAME:EDT
DTSTART:20250309T070000
END:DAYLIGHT
BEGIN:STANDARD
TZOFFSETFROM:-0400
TZOFFSETTO:-0500
TZNAME:EST
DTSTART:20251102T060000
END:STANDARD
BEGIN:DAYLIGHT
TZOFFSETFROM:-0500
TZOFFSETTO:-0400
TZNAME:EDT
DTSTART:20260308T070000
END:DAYLIGHT
BEGIN:STANDARD
TZOFFSETFROM:-0400
TZOFFSETTO:-0500
TZNAME:EST
DTSTART:20261101T060000
END:STANDARD
BEGIN:DAYLIGHT
TZOFFSETFROM:-0500
TZOFFSETTO:-0400
TZNAME:EDT
DTSTART:20270314T070000
END:DAYLIGHT
BEGIN:STANDARD
TZOFFSETFROM:-0400
TZOFFSETTO:-0500
TZNAME:EST
DTSTART:20271107T060000
END:STANDARD
END:VTIMEZONE
BEGIN:VEVENT
DTSTART;TZID=America/New_York:20260405T120000
DTEND;TZID=America/New_York:20260405T120000
DTSTAMP:20260425T184334
CREATED:20260309T172727Z
LAST-MODIFIED:20260313T204548Z
UID:10008696-1775390400-1775390400@www.florisumc.org
SUMMARY:Easter Children's Activity
DESCRIPTION:Easter Children’s Activity\nSunday\, April 5\, 2026\nFollowing the 9:00 AM & 11:00 AM Services\nCelebrate the joy of Easter with a morning full of excitement\, laughter\, and discovery! Our Easter Children’s Activity is a fun-filled event designed especially for children and their families. After worship\, kids will have the chance to explore\, search\, and celebrate together in a festive Easter adventure. \n\nA Fun Adventure for Kids\nChildren will take part in a lively Easter Children’s Activity where they’ll search for colorful eggs filled with treats\, toys\, and surprises. Each egg brings a new discovery\, making the hunt exciting for children of all ages. \nKids will enjoy: \nHunting for brightly colored Easter eggs \nFinding fun treats and small toys \nExploring clues and surprises along the way \nSharing the excitement with friends and family \nThis interactive scavenger hunt encourages curiosity\, teamwork\, and lots of joyful moments. \n\nFun for the Whole Family\nThis event isn’t just for kids—it’s a chance for families to celebrate Easter together. Parents are invited to join the fun and cheer on their children as they search for hidden treasures. \nWhether you’re visiting for the first time or are a regular part of our community\, this event is a wonderful way to connect with other families and enjoy a joyful Easter tradition. \n\nCelebrate the Joy of Easter\nEaster is a time of hope\, celebration\, and new life. Our Easter Children’s Activity is designed to bring that spirit to life through laughter\, play\, and meaningful time together. \nFollowing the 7:45 AM\, 9:00 AM and 11:00 AM services\, children and their families can gather for a morning filled with excitement and celebration. \n\nEvent Details\nEvent: Easter Children’s Activity\nDate: Sunday\, April 5\, 2026\nTimes: Immediately following the 9:00 AM and 11:00 AM services\nMinistry: Children’s Ministry\nMinistry Lead: Ruth Anne Luckenbaugh\nLocation: On campus (outdoor areas) \n\nAll Children Are Welcome\nThis event is open to all children and their families\, so feel free to invite friends\, neighbors\, and relatives to join the fun. \nCome celebrate Easter with us—bring your baskets\, your excitement\, and get ready for a morning full of treats\, toys\, and joyful memories!
URL:https://www.florisumc.org/event/easter-childrens-activities/2026-04-05/2/
LOCATION:Floris UMC\, 13600 Frying Pan Road\, Herndon\, VA\, 20171
CATEGORIES:Fun Children's Activity
ATTACH;FMTTYPE=image/png:https://www.florisumc.org/wp-content/uploads/2026/03/Web-Easter-Childrens-Activity.png
END:VEVENT
BEGIN:VEVENT
DTSTART;TZID=America/New_York:20260405T100000
DTEND;TZID=America/New_York:20260405T100000
DTSTAMP:20260425T184334
CREATED:20260309T172727Z
LAST-MODIFIED:20260313T204548Z
UID:10008695-1775383200-1775383200@www.florisumc.org
SUMMARY:Easter Children's Activity
DESCRIPTION:Easter Children’s Activity\nSunday\, April 5\, 2026\nFollowing the 9:00 AM & 11:00 AM Services\nCelebrate the joy of Easter with a morning full of excitement\, laughter\, and discovery! Our Easter Children’s Activity is a fun-filled event designed especially for children and their families. After worship\, kids will have the chance to explore\, search\, and celebrate together in a festive Easter adventure. \n\nA Fun Adventure for Kids\nChildren will take part in a lively Easter Children’s Activity where they’ll search for colorful eggs filled with treats\, toys\, and surprises. Each egg brings a new discovery\, making the hunt exciting for children of all ages. \nKids will enjoy: \nHunting for brightly colored Easter eggs \nFinding fun treats and small toys \nExploring clues and surprises along the way \nSharing the excitement with friends and family \nThis interactive scavenger hunt encourages curiosity\, teamwork\, and lots of joyful moments. \n\nFun for the Whole Family\nThis event isn’t just for kids—it’s a chance for families to celebrate Easter together. Parents are invited to join the fun and cheer on their children as they search for hidden treasures. \nWhether you’re visiting for the first time or are a regular part of our community\, this event is a wonderful way to connect with other families and enjoy a joyful Easter tradition. \n\nCelebrate the Joy of Easter\nEaster is a time of hope\, celebration\, and new life. Our Easter Children’s Activity is designed to bring that spirit to life through laughter\, play\, and meaningful time together. \nFollowing the 7:45 AM\, 9:00 AM and 11:00 AM services\, children and their families can gather for a morning filled with excitement and celebration. \n\nEvent Details\nEvent: Easter Children’s Activity\nDate: Sunday\, April 5\, 2026\nTimes: Immediately following the 9:00 AM and 11:00 AM services\nMinistry: Children’s Ministry\nMinistry Lead: Ruth Anne Luckenbaugh\nLocation: On campus (outdoor areas) \n\nAll Children Are Welcome\nThis event is open to all children and their families\, so feel free to invite friends\, neighbors\, and relatives to join the fun. \nCome celebrate Easter with us—bring your baskets\, your excitement\, and get ready for a morning full of treats\, toys\, and joyful memories!
URL:https://www.florisumc.org/event/easter-childrens-activities/2026-04-05/1/
LOCATION:Floris UMC\, 13600 Frying Pan Road\, Herndon\, VA\, 20171
CATEGORIES:Fun Children's Activity
ATTACH;FMTTYPE=image/png:https://www.florisumc.org/wp-content/uploads/2026/03/Web-Easter-Childrens-Activity.png
END:VEVENT
END:VCALENDAR