BEGIN:VCALENDAR
VERSION:2.0
PRODID:-//Floris United Methodist Church - ECPv6.15.20//NONSGML v1.0//EN
CALSCALE:GREGORIAN
METHOD:PUBLISH
X-WR-CALNAME:Floris United Methodist Church
X-ORIGINAL-URL:https://www.florisumc.org
X-WR-CALDESC:Events for Floris United Methodist Church
REFRESH-INTERVAL;VALUE=DURATION:PT1H
X-Robots-Tag:noindex
X-PUBLISHED-TTL:PT1H
BEGIN:VTIMEZONE
TZID:America/New_York
BEGIN:DAYLIGHT
TZOFFSETFROM:-0500
TZOFFSETTO:-0400
TZNAME:EDT
DTSTART:20250309T070000
END:DAYLIGHT
BEGIN:STANDARD
TZOFFSETFROM:-0400
TZOFFSETTO:-0500
TZNAME:EST
DTSTART:20251102T060000
END:STANDARD
BEGIN:DAYLIGHT
TZOFFSETFROM:-0500
TZOFFSETTO:-0400
TZNAME:EDT
DTSTART:20260308T070000
END:DAYLIGHT
BEGIN:STANDARD
TZOFFSETFROM:-0400
TZOFFSETTO:-0500
TZNAME:EST
DTSTART:20261101T060000
END:STANDARD
BEGIN:DAYLIGHT
TZOFFSETFROM:-0500
TZOFFSETTO:-0400
TZNAME:EDT
DTSTART:20270314T070000
END:DAYLIGHT
BEGIN:STANDARD
TZOFFSETFROM:-0400
TZOFFSETTO:-0500
TZNAME:EST
DTSTART:20271107T060000
END:STANDARD
END:VTIMEZONE
BEGIN:VEVENT
DTSTART;TZID=America/New_York:20260527T183000
DTEND;TZID=America/New_York:20260527T183000
DTSTAMP:20260424T054455
CREATED:20260422T151905Z
LAST-MODIFIED:20260423T195048Z
UID:10009585-1779906600-1779906600@www.florisumc.org
SUMMARY:The Holy Spirit: Pastors Study
DESCRIPTION:The Holy’s Spirit: Pastors Study\nEVENT DATES \n\nWednesday\, May 27\, 2026\nWednesday\, June 3\, 2026\nWednesday\, June 10\, 2026\n\nTime: 6:30 PM each evening\nFormat: In-person \nJoin Pastor Daniel Cho for a focused three-night study experience designed to deepen understanding of prayer\, spiritual formation\, and the active presence of God in everyday life. This class runs alongside a three-week sermon series that explores themes rooted in prayer and the transformative work of the Holy Spirit. \nTogether\, we will engage in meaningful conversation\, reflection\, and teaching centered on how God’s Spirit moves within us and strengthens our faith journey. This study is loosely based on Adam Hamilton’s The Holy Spirit\, offering a practical and accessible exploration of spiritual life and growth. \nParticipants are encouraged to engage in weekly reading to enrich discussion and personal reflection: \n\nThe Holy Spirit by Adam Hamilton\nSix chapters total\nRead two chapters each week in preparation for class\n\nEach session will build upon the last\, helping participants connect Scripture\, teaching\, and personal experience in a way that is both practical and spiritually grounding. \nRegister Here >\nWHAT TO EXPECT\nThis study is designed for those who desire more than surface-level engagement with faith. Expect thoughtful teaching and guided discussion. \nWhether you are seeking renewed clarity in your spiritual walk or simply wanting to grow deeper in understanding the Holy Spirit\, this is an opportunity to slow down and listen more intentionally. \nCome ready to learn\, reflect\, and grow in community as we explore what it means to live a Spirit-led life.
URL:https://www.florisumc.org/event/pastors-study/2026-05-27/
LOCATION:Floris UMC\, 13600 Frying Pan Road\, Herndon\, VA\, 20171
CATEGORIES:Adult,Bible Study
ORGANIZER;CN="Carol Edwards":MAILTO:cedwards@florisumc.org
END:VEVENT
BEGIN:VEVENT
DTSTART;TZID=America/New_York:20260603T183000
DTEND;TZID=America/New_York:20260603T183000
DTSTAMP:20260424T054455
CREATED:20260422T151905Z
LAST-MODIFIED:20260423T195048Z
UID:10009586-1780511400-1780511400@www.florisumc.org
SUMMARY:The Holy Spirit: Pastors Study
DESCRIPTION:The Holy’s Spirit: Pastors Study\nEVENT DATES \n\nWednesday\, May 27\, 2026\nWednesday\, June 3\, 2026\nWednesday\, June 10\, 2026\n\nTime: 6:30 PM each evening\nFormat: In-person \nJoin Pastor Daniel Cho for a focused three-night study experience designed to deepen understanding of prayer\, spiritual formation\, and the active presence of God in everyday life. This class runs alongside a three-week sermon series that explores themes rooted in prayer and the transformative work of the Holy Spirit. \nTogether\, we will engage in meaningful conversation\, reflection\, and teaching centered on how God’s Spirit moves within us and strengthens our faith journey. This study is loosely based on Adam Hamilton’s The Holy Spirit\, offering a practical and accessible exploration of spiritual life and growth. \nParticipants are encouraged to engage in weekly reading to enrich discussion and personal reflection: \n\nThe Holy Spirit by Adam Hamilton\nSix chapters total\nRead two chapters each week in preparation for class\n\nEach session will build upon the last\, helping participants connect Scripture\, teaching\, and personal experience in a way that is both practical and spiritually grounding. \nRegister Here >\nWHAT TO EXPECT\nThis study is designed for those who desire more than surface-level engagement with faith. Expect thoughtful teaching and guided discussion. \nWhether you are seeking renewed clarity in your spiritual walk or simply wanting to grow deeper in understanding the Holy Spirit\, this is an opportunity to slow down and listen more intentionally. \nCome ready to learn\, reflect\, and grow in community as we explore what it means to live a Spirit-led life.
URL:https://www.florisumc.org/event/pastors-study/2026-06-03/
LOCATION:Floris UMC\, 13600 Frying Pan Road\, Herndon\, VA\, 20171
CATEGORIES:Adult,Bible Study
ORGANIZER;CN="Carol Edwards":MAILTO:cedwards@florisumc.org
END:VEVENT
BEGIN:VEVENT
DTSTART;TZID=America/New_York:20260610T183000
DTEND;TZID=America/New_York:20260610T183000
DTSTAMP:20260424T054455
CREATED:20260422T151905Z
LAST-MODIFIED:20260423T195048Z
UID:10009587-1781116200-1781116200@www.florisumc.org
SUMMARY:The Holy Spirit: Pastors Study
DESCRIPTION:The Holy’s Spirit: Pastors Study\nEVENT DATES \n\nWednesday\, May 27\, 2026\nWednesday\, June 3\, 2026\nWednesday\, June 10\, 2026\n\nTime: 6:30 PM each evening\nFormat: In-person \nJoin Pastor Daniel Cho for a focused three-night study experience designed to deepen understanding of prayer\, spiritual formation\, and the active presence of God in everyday life. This class runs alongside a three-week sermon series that explores themes rooted in prayer and the transformative work of the Holy Spirit. \nTogether\, we will engage in meaningful conversation\, reflection\, and teaching centered on how God’s Spirit moves within us and strengthens our faith journey. This study is loosely based on Adam Hamilton’s The Holy Spirit\, offering a practical and accessible exploration of spiritual life and growth. \nParticipants are encouraged to engage in weekly reading to enrich discussion and personal reflection: \n\nThe Holy Spirit by Adam Hamilton\nSix chapters total\nRead two chapters each week in preparation for class\n\nEach session will build upon the last\, helping participants connect Scripture\, teaching\, and personal experience in a way that is both practical and spiritually grounding. \nRegister Here >\nWHAT TO EXPECT\nThis study is designed for those who desire more than surface-level engagement with faith. Expect thoughtful teaching and guided discussion. \nWhether you are seeking renewed clarity in your spiritual walk or simply wanting to grow deeper in understanding the Holy Spirit\, this is an opportunity to slow down and listen more intentionally. \nCome ready to learn\, reflect\, and grow in community as we explore what it means to live a Spirit-led life.
URL:https://www.florisumc.org/event/pastors-study/2026-06-10/
LOCATION:Floris UMC\, 13600 Frying Pan Road\, Herndon\, VA\, 20171
CATEGORIES:Adult,Bible Study
ORGANIZER;CN="Carol Edwards":MAILTO:cedwards@florisumc.org
END:VEVENT
END:VCALENDAR