BEGIN:VCALENDAR
VERSION:2.0
PRODID:-//Floris United Methodist Church - ECPv6.15.20//NONSGML v1.0//EN
CALSCALE:GREGORIAN
METHOD:PUBLISH
X-WR-CALNAME:Floris United Methodist Church
X-ORIGINAL-URL:https://www.florisumc.org
X-WR-CALDESC:Events for Floris United Methodist Church
REFRESH-INTERVAL;VALUE=DURATION:PT1H
X-Robots-Tag:noindex
X-PUBLISHED-TTL:PT1H
BEGIN:VTIMEZONE
TZID:America/New_York
BEGIN:DAYLIGHT
TZOFFSETFROM:-0500
TZOFFSETTO:-0400
TZNAME:EDT
DTSTART:20250309T070000
END:DAYLIGHT
BEGIN:STANDARD
TZOFFSETFROM:-0400
TZOFFSETTO:-0500
TZNAME:EST
DTSTART:20251102T060000
END:STANDARD
BEGIN:DAYLIGHT
TZOFFSETFROM:-0500
TZOFFSETTO:-0400
TZNAME:EDT
DTSTART:20260308T070000
END:DAYLIGHT
BEGIN:STANDARD
TZOFFSETFROM:-0400
TZOFFSETTO:-0500
TZNAME:EST
DTSTART:20261101T060000
END:STANDARD
BEGIN:DAYLIGHT
TZOFFSETFROM:-0500
TZOFFSETTO:-0400
TZNAME:EDT
DTSTART:20270314T070000
END:DAYLIGHT
BEGIN:STANDARD
TZOFFSETFROM:-0400
TZOFFSETTO:-0500
TZNAME:EST
DTSTART:20271107T060000
END:STANDARD
END:VTIMEZONE
BEGIN:VEVENT
DTSTART;VALUE=DATE:20260531
DTEND;VALUE=DATE:20260601
DTSTAMP:20260424T232819
CREATED:20260311T191416Z
LAST-MODIFIED:20260423T201218Z
UID:10008709-1780248600-1780255800@www.florisumc.org
SUMMARY:Graduation Dinner Celebration
DESCRIPTION:Celebrating the Class of 2026\n\nWe are excited to celebrate and honor the Class of 2026 as they mark this important milestone in their lives. Graduation is a time of achievement\, reflection\, and new beginnings\, and we want to recognize each graduate as part of our church family. \nGraduation Recognition Sunday\nOn Sunday\, June 14\, we will recognize all 2026 graduates during worship with a special slideshow celebration. This is a meaningful opportunity for our church community to celebrate the accomplishments of our students and pray over their next steps. \nTo include your graduate in the slideshow\, please submit: \n\n A photo of your graduate\n The school or program they are graduating from\n Their name\n\nPlease submit all information Here>\n \nHigh School Graduate Celebration Dinner\nWe also invite all 2026 high school graduates to a special celebration dinner: \n\nSunday\, May 31\n5:30 pm – 7:30 pm\nFloris UMC\n\nThis evening is designed just for our graduating seniors to gather\, be celebrated\, and enjoy time together with peers and church leaders. It is a chance to reflect on the journey so far and look ahead with encouragement and support from your church family. \nWe Want to Celebrate You\n \nGraduation is more than an ending\, it is a beginning. We are honored to walk alongside our graduates as they step into new seasons of life\, whether that is continuing education\, work\, service\, or other callings. We look forward to celebrating each student and recognizing the unique path God is leading them into. \nWe cannot wait to celebrate the Class of 2026 with you.
URL:https://www.florisumc.org/event/graduation-dinner-celebration/2026-05-31/
LOCATION:Floris UMC\, 13600 Frying Pan Road\, Herndon\, VA\, 20171
CATEGORIES:Student Ministry
ATTACH;FMTTYPE=image/jpeg:https://www.florisumc.org/wp-content/uploads/2025/04/Graduate-Recognition_WEB-982x519-1-e1775661976805.jpg
ORGANIZER;CN="Kara Stuebing":MAILTO:kstuebing@florisumc.org
END:VEVENT
BEGIN:VEVENT
DTSTART;VALUE=DATE:20260627
DTEND;VALUE=DATE:20260630
DTSTAMP:20260424T232819
CREATED:20260311T191416Z
LAST-MODIFIED:20260423T201218Z
UID:10009589-1782518400-1782777599@www.florisumc.org
SUMMARY:Graduation Dinner Celebration
DESCRIPTION:Celebrating the Class of 2026\n\nWe are excited to celebrate and honor the Class of 2026 as they mark this important milestone in their lives. Graduation is a time of achievement\, reflection\, and new beginnings\, and we want to recognize each graduate as part of our church family. \nGraduation Recognition Sunday\nOn Sunday\, June 14\, we will recognize all 2026 graduates during worship with a special slideshow celebration. This is a meaningful opportunity for our church community to celebrate the accomplishments of our students and pray over their next steps. \nTo include your graduate in the slideshow\, please submit: \n\n A photo of your graduate\n The school or program they are graduating from\n Their name\n\nPlease submit all information Here>\n \nHigh School Graduate Celebration Dinner\nWe also invite all 2026 high school graduates to a special celebration dinner: \n\nSunday\, May 31\n5:30 pm – 7:30 pm\nFloris UMC\n\nThis evening is designed just for our graduating seniors to gather\, be celebrated\, and enjoy time together with peers and church leaders. It is a chance to reflect on the journey so far and look ahead with encouragement and support from your church family. \nWe Want to Celebrate You\n \nGraduation is more than an ending\, it is a beginning. We are honored to walk alongside our graduates as they step into new seasons of life\, whether that is continuing education\, work\, service\, or other callings. We look forward to celebrating each student and recognizing the unique path God is leading them into. \nWe cannot wait to celebrate the Class of 2026 with you.
URL:https://www.florisumc.org/event/graduation-dinner-celebration/2026-06-27/
LOCATION:Floris UMC\, 13600 Frying Pan Road\, Herndon\, VA\, 20171
CATEGORIES:Student Ministry
ATTACH;FMTTYPE=image/jpeg:https://www.florisumc.org/wp-content/uploads/2025/04/Graduate-Recognition_WEB-982x519-1-e1775661976805.jpg
ORGANIZER;CN="Kara Stuebing":MAILTO:kstuebing@florisumc.org
END:VEVENT
END:VCALENDAR