BEGIN:VCALENDAR
VERSION:2.0
PRODID:-//Floris United Methodist Church - ECPv6.15.20//NONSGML v1.0//EN
CALSCALE:GREGORIAN
METHOD:PUBLISH
X-ORIGINAL-URL:https://www.florisumc.org
X-WR-CALDESC:Events for Floris United Methodist Church
REFRESH-INTERVAL;VALUE=DURATION:PT1H
X-Robots-Tag:noindex
X-PUBLISHED-TTL:PT1H
BEGIN:VTIMEZONE
TZID:America/New_York
BEGIN:DAYLIGHT
TZOFFSETFROM:-0500
TZOFFSETTO:-0400
TZNAME:EDT
DTSTART:20240310T070000
END:DAYLIGHT
BEGIN:STANDARD
TZOFFSETFROM:-0400
TZOFFSETTO:-0500
TZNAME:EST
DTSTART:20241103T060000
END:STANDARD
BEGIN:DAYLIGHT
TZOFFSETFROM:-0500
TZOFFSETTO:-0400
TZNAME:EDT
DTSTART:20250309T070000
END:DAYLIGHT
BEGIN:STANDARD
TZOFFSETFROM:-0400
TZOFFSETTO:-0500
TZNAME:EST
DTSTART:20251102T060000
END:STANDARD
BEGIN:DAYLIGHT
TZOFFSETFROM:-0500
TZOFFSETTO:-0400
TZNAME:EDT
DTSTART:20260308T070000
END:DAYLIGHT
BEGIN:STANDARD
TZOFFSETFROM:-0400
TZOFFSETTO:-0500
TZNAME:EST
DTSTART:20261101T060000
END:STANDARD
END:VTIMEZONE
BEGIN:VEVENT
DTSTART;TZID=America/New_York:20251218T190000
DTEND;TZID=America/New_York:20251218T200000
DTSTAMP:20260425T115133
CREATED:20251112T182535Z
LAST-MODIFIED:20251126T164411Z
UID:10008490-1766084400-1766088000@www.florisumc.org
SUMMARY:Darkness to Light: A Christmas Service of Reflection
DESCRIPTION:Darkness to Light: A Christmas Service of Reflection\nThe Christmas season is often filled with bright lights\, cheery songs\, ringing bells\, and the joyful expectation of celebration. While all of this can bring happiness\, it can also feel overwhelming or isolating. For some\, Christmas is a time to pause\, reflect\, and seek a deeper sense of peace and meaning. \nOur Darkness to Light service offers a quiet\, contemplative space to do just that. This special Christmas service is designed for anyone who wants to step away from the busyness of the season and enter a moment of calm\, faith\, and hope. Whether you are feeling anxious\, lonely\, or simply need a pause to connect with God\, this service provides a welcoming environment to experience the love and presence of Christ. \nDuring this service\, we come together as a community to reflect on the journey from darkness into the light of Christ. Through prayer\, scripture\, and gentle music\, participants are invited to acknowledge life’s challenges and find comfort in the promise of God’s peace. It is a time to slow down\, center your heart\, and remember the true meaning of Christmas beyond the celebrations and obligations. \nDarkness to Light is open to everyone — whether you are a longtime member\, a first-time visitor\, or someone seeking a moment of solace in the midst of the season. There are no expectations other than to show up\, breathe\, and be present. \n\nTake a pause this Christmas. Step into the quiet and allow yourself to be reminded that even in the darkest moments\, the light of Christ is with us\, offering hope\, comfort\, and love.
URL:https://www.florisumc.org/event/darkness-to-light/
LOCATION:Floris UMC\, 13600 Frying Pan Road\, Herndon\, VA\, 20171
CATEGORIES:Darkness to Light
ATTACH;FMTTYPE=image/png:https://www.florisumc.org/wp-content/uploads/2025/11/Web-Version-1.png
END:VEVENT
END:VCALENDAR