BEGIN:VCALENDAR
VERSION:2.0
PRODID:-//Floris United Methodist Church - ECPv6.15.20//NONSGML v1.0//EN
CALSCALE:GREGORIAN
METHOD:PUBLISH
X-ORIGINAL-URL:https://www.florisumc.org
X-WR-CALDESC:Events for Floris United Methodist Church
REFRESH-INTERVAL;VALUE=DURATION:PT1H
X-Robots-Tag:noindex
X-PUBLISHED-TTL:PT1H
BEGIN:VTIMEZONE
TZID:America/New_York
BEGIN:DAYLIGHT
TZOFFSETFROM:-0500
TZOFFSETTO:-0400
TZNAME:EDT
DTSTART:20240310T070000
END:DAYLIGHT
BEGIN:STANDARD
TZOFFSETFROM:-0400
TZOFFSETTO:-0500
TZNAME:EST
DTSTART:20241103T060000
END:STANDARD
BEGIN:DAYLIGHT
TZOFFSETFROM:-0500
TZOFFSETTO:-0400
TZNAME:EDT
DTSTART:20250309T070000
END:DAYLIGHT
BEGIN:STANDARD
TZOFFSETFROM:-0400
TZOFFSETTO:-0500
TZNAME:EST
DTSTART:20251102T060000
END:STANDARD
BEGIN:DAYLIGHT
TZOFFSETFROM:-0500
TZOFFSETTO:-0400
TZNAME:EDT
DTSTART:20260308T070000
END:DAYLIGHT
BEGIN:STANDARD
TZOFFSETFROM:-0400
TZOFFSETTO:-0500
TZNAME:EST
DTSTART:20261101T060000
END:STANDARD
END:VTIMEZONE
BEGIN:VEVENT
DTSTART;TZID=America/New_York:20251107T173000
DTEND;TZID=America/New_York:20251107T190000
DTSTAMP:20260421T225339
CREATED:20250926T200554Z
LAST-MODIFIED:20251020T155340Z
UID:10007571-1762536600-1762542000@www.florisumc.org
SUMMARY:Messy Church - Little Lights & Holy Bites
DESCRIPTION:Messy Church – Little Lights & Holy Bites\n\n\nJoin us for a special evening of food\, fellowship\, and fun! At this Messy Church event\, we’ll dive into the meaning behind two important parts of worship: 🕯 Acolytes (our “Little Lights”) – why they carry the light of Christ into worship. 🍞 Holy Communion (our “Holy Bites”) – what it means and why we celebrate it together. After a delicious family-friendly dinner\, we’ll enjoy hands-on activities\, fellowship\, and learning that will help kids and families understand why these elements are central to our worship service. Bring the whole family—everyone is welcome at the table! \nThis evening is designed to be engaging for all ages. Children will have the chance to see the “Little Lights” in action and learn how acolytes help lead our worship while symbolizing the light of Christ in our lives. Through fun\, interactive demonstrations and conversations\, families will explore how even small acts of service and participation can make a meaningful difference in the church community. \nWe’ll also focus on Holy Communion\, or the “Holy Bites\,” providing an approachable way for kids and adults to understand this sacred tradition. Through stories\, discussion\, and hands-on experiences\, participants will discover the spiritual significance behind the bread and cup\, and why sharing this meal is central to our faith. \nBeyond the learning\, this is a time to connect with others in the Floris UMC community. Enjoy a warm\, family-style dinner\, make new friends\, and take part in creative\, faith-centered activities designed to inspire curiosity\, reflection\, and joy. It’s an opportunity to experience worship in a relaxed and welcoming environment\, where families can grow together spiritually and socially. \nDon’t miss this special chance to explore\, learn\, and celebrate together. Everyone is welcome to join in\, so bring your family\, invite neighbors\, and come ready to experience the fun\, fellowship\, and faith that make Messy Church so special! \nEvent Details: \n\nDate: Friday\, November 7\, 2025\nTime: 5:30p.m. to 7:00p.m.\nLocation: Floris UMC\nFee: $5.00\n\nRegister Now >
URL:https://www.florisumc.org/event/messy-church-little-lights/
LOCATION:Floris UMC\, 13600 Frying Pan Road\, Herndon\, VA\, 20171
CATEGORIES:Messy Church
ATTACH;FMTTYPE=image/png:https://www.florisumc.org/wp-content/uploads/2025/09/Web-6-e1760975612213.png
ORGANIZER;CN="Wendy Hilbert":MAILTO:whilbert@florisumc.org
END:VEVENT
END:VCALENDAR