BEGIN:VCALENDAR
VERSION:2.0
PRODID:-//Floris United Methodist Church - ECPv6.15.20//NONSGML v1.0//EN
CALSCALE:GREGORIAN
METHOD:PUBLISH
X-WR-CALNAME:Floris United Methodist Church
X-ORIGINAL-URL:https://www.florisumc.org
X-WR-CALDESC:Events for Floris United Methodist Church
REFRESH-INTERVAL;VALUE=DURATION:PT1H
X-Robots-Tag:noindex
X-PUBLISHED-TTL:PT1H
BEGIN:VTIMEZONE
TZID:America/New_York
BEGIN:DAYLIGHT
TZOFFSETFROM:-0500
TZOFFSETTO:-0400
TZNAME:EDT
DTSTART:20240310T070000
END:DAYLIGHT
BEGIN:STANDARD
TZOFFSETFROM:-0400
TZOFFSETTO:-0500
TZNAME:EST
DTSTART:20241103T060000
END:STANDARD
BEGIN:DAYLIGHT
TZOFFSETFROM:-0500
TZOFFSETTO:-0400
TZNAME:EDT
DTSTART:20250309T070000
END:DAYLIGHT
BEGIN:STANDARD
TZOFFSETFROM:-0400
TZOFFSETTO:-0500
TZNAME:EST
DTSTART:20251102T060000
END:STANDARD
BEGIN:DAYLIGHT
TZOFFSETFROM:-0500
TZOFFSETTO:-0400
TZNAME:EDT
DTSTART:20260308T070000
END:DAYLIGHT
BEGIN:STANDARD
TZOFFSETFROM:-0400
TZOFFSETTO:-0500
TZNAME:EST
DTSTART:20261101T060000
END:STANDARD
END:VTIMEZONE
BEGIN:VEVENT
DTSTART;VALUE=DATE:20250921
DTEND;VALUE=DATE:20250922
DTSTAMP:20260419T233303
CREATED:20250908T184454Z
LAST-MODIFIED:20250916T162456Z
UID:10007482-1758412800-1758499199@www.florisumc.org
SUMMARY:Bread Sunday
DESCRIPTION:Bread Sunday: Bake\, Share\, and Inspire\nBread is more than food—it’s a universal symbol of community\, hospitality\, and nourishment. That’s why we’re celebrating Bread Sunday as part of the Floris Feeds the World campaign—and we want you to be part of it! \nHere’s how it works: bake your own bread at home. It could be your favorite family recipe\, a new bread you’ve always wanted to try\, or a loaf inspired by a culture around the world. Then\, bring your bread to church on Bread Sunday to share with others after worship. Together we’ll enjoy breads from many traditions\, experiencing the beauty of hospitality and community around the table. \nIf you’re part of our online community\, you can still join in! Take a photo of your creation and post it on social media. Be sure to tag Floris UMC and use our campaign hashtag #FlorisFeeds40K so your bread can inspire others. \nBread connects us to our global neighbors. Around the world\, families gather with many different kinds of bread—baguettes\, tortillas\, injera\, naan\, flatbreads—and each carries its own story. Just as bread nourishes the body\, every meal packaged through Rise Against Hunger nourishes a child\, a family\, or a community in need. \nBy participating in Bread Sunday\, you’re not just baking—you’re spreading awareness\, sharing joy\, and helping to feed thousands. And don’t forget to check back here to see our community bread gallery\, featuring photos from across the congregation. It will be a celebration of creativity\, generosity\, and the spirit of coming together for a greater purpose. \nSo\, preheat the oven\, gather your loved ones\, and join us for Bread Sunday. Together\, let’s turn something as simple as bread into a movement of hope and nourishment for the world. \nNo Registration Needed!
URL:https://www.florisumc.org/event/bread-sunday/
LOCATION:Floris UMC\, 13600 Frying Pan Road\, Herndon\, VA\, 20171
CATEGORIES:Rise Against Hunger,Serve
ATTACH;FMTTYPE=image/png:https://www.florisumc.org/wp-content/uploads/2025/09/9.21.25-Bread-Sunday-982-x-519-px-e1758039887831.png
ORGANIZER;CN="Debbie Cali":MAILTO:dcali@florisumc.org
END:VEVENT
END:VCALENDAR