BEGIN:VCALENDAR
VERSION:2.0
PRODID:-//Floris United Methodist Church - ECPv6.15.20//NONSGML v1.0//EN
CALSCALE:GREGORIAN
METHOD:PUBLISH
X-ORIGINAL-URL:https://www.florisumc.org
X-WR-CALDESC:Events for Floris United Methodist Church
REFRESH-INTERVAL;VALUE=DURATION:PT1H
X-Robots-Tag:noindex
X-PUBLISHED-TTL:PT1H
BEGIN:VTIMEZONE
TZID:America/New_York
BEGIN:DAYLIGHT
TZOFFSETFROM:-0500
TZOFFSETTO:-0400
TZNAME:EDT
DTSTART:20250309T070000
END:DAYLIGHT
BEGIN:STANDARD
TZOFFSETFROM:-0400
TZOFFSETTO:-0500
TZNAME:EST
DTSTART:20251102T060000
END:STANDARD
BEGIN:DAYLIGHT
TZOFFSETFROM:-0500
TZOFFSETTO:-0400
TZNAME:EDT
DTSTART:20260308T070000
END:DAYLIGHT
BEGIN:STANDARD
TZOFFSETFROM:-0400
TZOFFSETTO:-0500
TZNAME:EST
DTSTART:20261101T060000
END:STANDARD
BEGIN:DAYLIGHT
TZOFFSETFROM:-0500
TZOFFSETTO:-0400
TZNAME:EDT
DTSTART:20270314T070000
END:DAYLIGHT
BEGIN:STANDARD
TZOFFSETFROM:-0400
TZOFFSETTO:-0500
TZNAME:EST
DTSTART:20271107T060000
END:STANDARD
END:VTIMEZONE
BEGIN:VEVENT
DTSTART;VALUE=DATE:20260322
DTEND;VALUE=DATE:20260328
DTSTAMP:20260421T210145
CREATED:20250604T163147Z
LAST-MODIFIED:20260203T173011Z
UID:10007365-1774137600-1774655999@www.florisumc.org
SUMMARY:Western North Carolina Mission Trip
DESCRIPTION:Western North Carolina Mission Trip \nFor over two decades\, Floris United Methodist Church has been answering the call to serve communities impacted by natural disasters. From hurricanes and flooding to tornadoes\, our mission teams have brought hope and help to areas across the country. Now\, we invite you to be part of our next journey—our Western North Carolina Mission Trip. \nFloris UMC has sent more than 60 teams to disaster-stricken areas in states like Mississippi\, Florida\, South Carolina\, North Carolina\, Kentucky\, New Jersey\, and New York. Over 600 volunteers have rolled up their sleeves\, built homes\, cleared debris\, and most importantly\, offered compassion to those in need. This work continues as long as there are communities in need of recovery. \nOur next UMVIM Team to Western North Carolina is March 22–27. Would you be the hands and feet of Jesus Christ for the thousands of folks displaced by the remnants of Hurricane Helene? Whether you are skilled in construction or have little or no experience\, your willingness to help will make a great difference. \nAll missioners must be 18+ or 16–18 if accompanied by a parent or designated chaperone\, and there’s no upper age limit—just bring your heart and hands ready to serve! From teens to retirees\, our teams are made up of people who simply want to make a tangible impact in the lives of others. \nJoin us as we continue this important work. Be the hands and feet of Christ in North Carolina. Come ready to work\, to serve\, and to grow in faith and fellowship. \nSign up or ask questions: Tim Wells\, cyacard@comcast.net\, 703-517-0183 \nREGISTER NOW!Dates: March 22–27\, 2026
URL:https://www.florisumc.org/event/western-north-carolina-mission-trip-3/
LOCATION:Floris UMC\, 13600 Frying Pan Road\, Herndon\, VA\, 20171
CATEGORIES:Mission Trip,Serve
ATTACH;FMTTYPE=image/jpeg:https://www.florisumc.org/wp-content/uploads/2025/04/SE-Mission-Trip-to-NORTH-CAROLINA-MAY-2025-02.jpg
ORGANIZER;CN="Debbie Cali":MAILTO:dcali@florisumc.org
END:VEVENT
END:VCALENDAR