BEGIN:VCALENDAR
VERSION:2.0
PRODID:-//Floris United Methodist Church - ECPv6.15.20//NONSGML v1.0//EN
CALSCALE:GREGORIAN
METHOD:PUBLISH
X-ORIGINAL-URL:https://www.florisumc.org
X-WR-CALDESC:Events for Floris United Methodist Church
REFRESH-INTERVAL;VALUE=DURATION:PT1H
X-Robots-Tag:noindex
X-PUBLISHED-TTL:PT1H
BEGIN:VTIMEZONE
TZID:America/New_York
BEGIN:DAYLIGHT
TZOFFSETFROM:-0500
TZOFFSETTO:-0400
TZNAME:EDT
DTSTART:20240310T070000
END:DAYLIGHT
BEGIN:STANDARD
TZOFFSETFROM:-0400
TZOFFSETTO:-0500
TZNAME:EST
DTSTART:20241103T060000
END:STANDARD
BEGIN:DAYLIGHT
TZOFFSETFROM:-0500
TZOFFSETTO:-0400
TZNAME:EDT
DTSTART:20250309T070000
END:DAYLIGHT
BEGIN:STANDARD
TZOFFSETFROM:-0400
TZOFFSETTO:-0500
TZNAME:EST
DTSTART:20251102T060000
END:STANDARD
BEGIN:DAYLIGHT
TZOFFSETFROM:-0500
TZOFFSETTO:-0400
TZNAME:EDT
DTSTART:20260308T070000
END:DAYLIGHT
BEGIN:STANDARD
TZOFFSETFROM:-0400
TZOFFSETTO:-0500
TZNAME:EST
DTSTART:20261101T060000
END:STANDARD
END:VTIMEZONE
BEGIN:VEVENT
DTSTART;VALUE=DATE:20250608
DTEND;VALUE=DATE:20250728
DTSTAMP:20260425T151259
CREATED:20250528T133522Z
LAST-MODIFIED:20250617T131808Z
UID:10007350-1749340800-1753660799@www.florisumc.org
SUMMARY:Following My Own Path - Marisela Rumberg
DESCRIPTION:Following My Own Path by Marisela Rumberg\nDiscover the vibrant\, story-rich work of award-winning fiber artist Marisela Rumberg. Born in Mexico and now based in the U.S.\, Marisela blends tradition and innovation through a stunning mix of fiber arts and mixed media. Her art invites you to explore nature\, myth\, and memory—brought to life with techniques like eco-printing\, wet cyanotype\, thread painting\, and fiber sculpting. \nMarisela’s work has been exhibited on three continents and featured in leading quilt shows and publications. Each piece tells a story\, drawing from her collections such as Nature’s Fingerprints\, Zentangle Inspired Art\, and Legends\, Stories and Mexican Traditions. \nCome experience this powerful exhibition that weaves together culture\, nature\, and imagination in extraordinary ways. \nPlan Your Visit\nExhibit Dates: June 8 – July 27Location: Floris UMC 2nd FloorAdmission: Free & open to the publicLearn more about the Floris Art Gallery
URL:https://www.florisumc.org/event/following-my-own-path/
LOCATION:Floris UMC\, 13600 Frying Pan Road\, Herndon\, VA\, 20171
CATEGORIES:Art Gallery
ATTACH;FMTTYPE=image/png:https://www.florisumc.org/wp-content/uploads/2025/05/Untitled-design-38.png
END:VEVENT
BEGIN:VEVENT
DTSTART;VALUE=DATE:20250629
DTEND;VALUE=DATE:20250711
DTSTAMP:20260425T151259
CREATED:20250218T190353Z
LAST-MODIFIED:20250416T135050Z
UID:10007200-1751155200-1752191999@www.florisumc.org
SUMMARY:HCW's 25th Anniversary Summer Mission Trip: Sierra Leone
DESCRIPTION:HCW’s 25th Anniversary Summer Mission Trip: Sierra Leone\nDiscover your opportunity to serve alongside those in Sierra Leone for HCW’s 25th Anniversary Summer Mission Trip\, helping vulnerable children and families while advancing God’s kingdom. \nExperience a mission trip this year! \nTrip Dates: June 29 – July 10\, 2025 \nSign Up > | Serve Our World >\nFor more information or to sign up\, contact Debbie Cali.
URL:https://www.florisumc.org/event/hcw-mission-trip-sierra-leone/
LOCATION:Floris UMC\, 13600 Frying Pan Road\, Herndon\, VA\, 20171
CATEGORIES:Adult,Mission Trip,Serve
ATTACH;FMTTYPE=image/jpeg:https://www.florisumc.org/wp-content/uploads/2022/08/SE_Mission_Trip_Sierra-Leone_982x519.jpg
ORGANIZER;CN="Debbie Cali":MAILTO:dcali@florisumc.org
END:VEVENT
BEGIN:VEVENT
DTSTART;TZID=America/New_York:20250710T173000
DTEND;TZID=America/New_York:20250710T183000
DTSTAMP:20260425T151259
CREATED:20241203T041247Z
LAST-MODIFIED:20241203T042604Z
UID:10006732-1752168600-1752172200@www.florisumc.org
SUMMARY:Happy Hour Big Book Meeting
DESCRIPTION:Alcoholics Anonymous Meetings at Floris UMC \n\nAlcoholics Anonymous is a fellowship of people who come together to solve their drinking problem. It doesn’t cost anything to attend A.A. meetings. There are no age or education requirements to participate. Membership is open to anyone who wants to do something about their drinking problem. Anyone with a desire to stop drinking is welcome\, regardless of race\, gender\, sexual orientation\, religion\, income or profession. And it’s free. At meetings you can just sit and listen and learn more about recovery\, or you can share about your situation. It’s completely up to you. A.A.’s primary purpose is to help alcoholics achieve sobriety.\nAlcoholics Anonymous >  |  Virginia AA >\n  \nFor more information\, contact us at florishappyhour@gmail.com.
URL:https://www.florisumc.org/event/aa-3/2025-07-10/
LOCATION:Floris UMC\, 13600 Frying Pan Road\, Herndon\, VA\, 20171
CATEGORIES:AA,Alcoholics Anonymous®,Support Group,Virtually
ATTACH;FMTTYPE=image/jpeg:https://www.florisumc.org/wp-content/uploads/2024/02/CS_AA-2024.jpg
ORGANIZER;CN="Carol Benson":MAILTO:cbenson@florisumc.org
END:VEVENT
BEGIN:VEVENT
DTSTART;TZID=America/New_York:20250712T063000
DTEND;TZID=America/New_York:20250712T093000
DTSTAMP:20260425T151259
CREATED:20241209T231605Z
LAST-MODIFIED:20250731T190857Z
UID:10006923-1752301800-1752312600@www.florisumc.org
SUMMARY:Embry Rucker Breakfast
DESCRIPTION:Join us as we prepare and serve breakfast to the unhoused at the Embry Rucker Shelter in Reston\, VA. Provide a welcoming presence and a warm meal on the 2nd Saturday of every month. \nSign up now > \nFor more information\, please contact Donna Porter at dporter@florisumc.org
URL:https://www.florisumc.org/event/embry-rucker/2025-07-12/
LOCATION:Embry Rucker\, 11975 Bowman Towne Drive\, Reston\, 20190\, United States
CATEGORIES:Embry Rucker,Serve
ATTACH;FMTTYPE=image/jpeg:https://www.florisumc.org/wp-content/uploads/2023/05/SE_Embry-Rucker-Breakfast-Service.jpg
ORGANIZER;CN="Debbie Cali":MAILTO:dcali@florisumc.org
END:VEVENT
END:VCALENDAR