BEGIN:VCALENDAR
VERSION:2.0
PRODID:-//Floris United Methodist Church - ECPv6.15.20//NONSGML v1.0//EN
CALSCALE:GREGORIAN
METHOD:PUBLISH
X-ORIGINAL-URL:https://www.florisumc.org
X-WR-CALDESC:Events for Floris United Methodist Church
REFRESH-INTERVAL;VALUE=DURATION:PT1H
X-Robots-Tag:noindex
X-PUBLISHED-TTL:PT1H
BEGIN:VTIMEZONE
TZID:America/New_York
BEGIN:DAYLIGHT
TZOFFSETFROM:-0500
TZOFFSETTO:-0400
TZNAME:EDT
DTSTART:20240310T070000
END:DAYLIGHT
BEGIN:STANDARD
TZOFFSETFROM:-0400
TZOFFSETTO:-0500
TZNAME:EST
DTSTART:20241103T060000
END:STANDARD
BEGIN:DAYLIGHT
TZOFFSETFROM:-0500
TZOFFSETTO:-0400
TZNAME:EDT
DTSTART:20250309T070000
END:DAYLIGHT
BEGIN:STANDARD
TZOFFSETFROM:-0400
TZOFFSETTO:-0500
TZNAME:EST
DTSTART:20251102T060000
END:STANDARD
BEGIN:DAYLIGHT
TZOFFSETFROM:-0500
TZOFFSETTO:-0400
TZNAME:EDT
DTSTART:20260308T070000
END:DAYLIGHT
BEGIN:STANDARD
TZOFFSETFROM:-0400
TZOFFSETTO:-0500
TZNAME:EST
DTSTART:20261101T060000
END:STANDARD
END:VTIMEZONE
BEGIN:VEVENT
DTSTART;TZID=America/New_York:20250803T123000
DTEND;TZID=America/New_York:20250803T143000
DTSTAMP:20260424T092257
CREATED:20241203T074257Z
LAST-MODIFIED:20250312T174138Z
UID:10006858-1754224200-1754231400@www.florisumc.org
SUMMARY:Monthly Lunch Social
DESCRIPTION:Join Access Ministries for its monthly social–have lunch and connect with friends! We meet from 12:30-2:30 on Sunday afternoons\, at Floris UMC. \nFor more information contact Lauren Soljanyk at lsoljanyk@florisumc.org. \n  \nAccess Ministries >  |  Young Adults >  |  Lunch Socials >
URL:https://www.florisumc.org/event/lunch/2025-08-03/
LOCATION:Floris UMC\, 13600 Frying Pan Road\, Herndon\, VA\, 20171
CATEGORIES:Access Ministries
ATTACH;FMTTYPE=image/jpeg:https://www.florisumc.org/wp-content/uploads/2024/01/AM_MONTHLY-LUNCH-SOCIAL.jpg
ORGANIZER;CN="Lauren Soljanyk":MAILTO:lSoljanyk@florisumc.org
END:VEVENT
BEGIN:VEVENT
DTSTART;TZID=America/New_York:20250804T173000
DTEND;TZID=America/New_York:20250804T183000
DTSTAMP:20260424T092257
CREATED:20241203T034621Z
LAST-MODIFIED:20241203T034621Z
UID:10006666-1754328600-1754332200@www.florisumc.org
SUMMARY:Happy Hour Step Meeting
DESCRIPTION:Alcoholics Anonymous Meetings at Floris UMC \n\nAlcoholics Anonymous is a fellowship of people who come together to solve their drinking problem. It doesn’t cost anything to attend A.A. meetings. There are no age or education requirements to participate. Membership is open to anyone who wants to do something about their drinking problem. Anyone with a desire to stop drinking is welcome\, regardless of race\, gender\, sexual orientation\, religion\, income or profession. And it’s free. At meetings you can just sit and listen and learn more about recovery\, or you can share about your situation. It’s completely up to you. A.A.’s primary purpose is to help alcoholics achieve sobriety.\nAlcoholics Anonymous > |  Virginia AA >\n  \nFor more information\, contact us at florishappyhour@gmail.com.
URL:https://www.florisumc.org/event/aa/2025-08-04/
LOCATION:Floris UMC\, 13600 Frying Pan Road\, Herndon\, VA\, 20171
CATEGORIES:AA,Alcoholics Anonymous®,Support Group,Virtually
ATTACH;FMTTYPE=image/jpeg:https://www.florisumc.org/wp-content/uploads/2024/02/CS_AA-2024.jpg
ORGANIZER;CN="Carol Benson":MAILTO:cbenson@florisumc.org
END:VEVENT
BEGIN:VEVENT
DTSTART;TZID=America/New_York:20250805T173000
DTEND;TZID=America/New_York:20250805T200000
DTSTAMP:20260424T092257
CREATED:20250422T171404Z
LAST-MODIFIED:20250624T130335Z
UID:10007297-1754415000-1754424000@www.florisumc.org
SUMMARY:Family Bible Camp
DESCRIPTION:Family Bible Camp \nFood\, Fellowship\, and Faith-Filled Fun for the Whole Family\nThis summer\, gather your loved ones and join us for Family Bible Camp—a joyful and engaging way to grow in faith together while making meaningful memories. Over the course of three special evenings\, families of all shapes and sizes will come together to enjoy dinner\, hands-on activities\, and interactive Bible-based programming that’s fun for kids and adults alike. \nEach night includes a shared meal\, music\, crafts\, storytelling\, games\, and a creative exploration of a Bible theme designed to help families connect with one another and with God. Whether you attend one evening or all three\, you’ll experience a warm\, welcoming environment where faith is celebrated\, and community is built. \nEach night will feature a different set of activities\, so there’s something new to enjoy every time. You’ll leave with practical tools to continue faith conversations at home and fun memories that will last all summer long. \nAll families are welcome—whether you’re part of our church community or visiting for the first time. \nDates & Times:July 17 | 5:30 – 8:00 p.m. | $5View Photos from Previous Family Water DayRegister for Family Water Day \nFamily Dance Party | Tuesday\, August 5 | 5:30 – 8:00 p.m. | $5View Photos from Previous Family Dance PartyRegister for Family Dance Party
URL:https://www.florisumc.org/event/bible-camp/2025-08-05/
LOCATION:Floris UMC\, 13600 Frying Pan Road\, Herndon\, VA\, 20171
CATEGORIES:Children's Ministry,Family Bible Camp,Family Ministries
ATTACH;FMTTYPE=image/jpeg:https://www.florisumc.org/wp-content/uploads/2025/04/FAMILY-BIBLE-CAMP_WEB-ALL-EVENTS-1.jpg
END:VEVENT
BEGIN:VEVENT
DTSTART;TZID=America/New_York:20250807T173000
DTEND;TZID=America/New_York:20250807T183000
DTSTAMP:20260424T092257
CREATED:20241203T041247Z
LAST-MODIFIED:20241203T042604Z
UID:10006736-1754587800-1754591400@www.florisumc.org
SUMMARY:Happy Hour Big Book Meeting
DESCRIPTION:Alcoholics Anonymous Meetings at Floris UMC \n\nAlcoholics Anonymous is a fellowship of people who come together to solve their drinking problem. It doesn’t cost anything to attend A.A. meetings. There are no age or education requirements to participate. Membership is open to anyone who wants to do something about their drinking problem. Anyone with a desire to stop drinking is welcome\, regardless of race\, gender\, sexual orientation\, religion\, income or profession. And it’s free. At meetings you can just sit and listen and learn more about recovery\, or you can share about your situation. It’s completely up to you. A.A.’s primary purpose is to help alcoholics achieve sobriety.\nAlcoholics Anonymous >  |  Virginia AA >\n  \nFor more information\, contact us at florishappyhour@gmail.com.
URL:https://www.florisumc.org/event/aa-3/2025-08-07/
LOCATION:Floris UMC\, 13600 Frying Pan Road\, Herndon\, VA\, 20171
CATEGORIES:AA,Alcoholics Anonymous®,Support Group,Virtually
ATTACH;FMTTYPE=image/jpeg:https://www.florisumc.org/wp-content/uploads/2024/02/CS_AA-2024.jpg
ORGANIZER;CN="Carol Benson":MAILTO:cbenson@florisumc.org
END:VEVENT
BEGIN:VEVENT
DTSTART;TZID=America/New_York:20250807T193000
DTEND;TZID=America/New_York:20250807T193000
DTSTAMP:20260424T092257
CREATED:20241129T184941Z
LAST-MODIFIED:20241129T184941Z
UID:10006602-1754595000-1754595000@www.florisumc.org
SUMMARY:Dementia Caregiver Support Group
DESCRIPTION:The Dementia Caregiver Support Group seeks to provide support to those who have loved ones with dementia. Know that you are not alone in caring for your family member or friend with memory impairment. \nJoin this virtual group to share experiences and gain support and caregiving insight from those who are on a similar journey. \nThe meetings are held via Zoom on the first Thursday of every month\, 7:30-9:00 p.m. \nDementia Caregiver Support Group >\nFor more information or to obtain the Zoom details\, contact Carol Benson at cbenson@florisumc.org.
URL:https://www.florisumc.org/event/dementia/2025-08-07/
LOCATION:VA
CATEGORIES:Caregiver Support Group,Support Group,Virtually
ATTACH;FMTTYPE=image/jpeg:https://www.florisumc.org/wp-content/uploads/2023/03/CS_Dementia_Caregiver_Support_Group_982x519.jpg
ORGANIZER;CN="Carol Benson":MAILTO:cbenson@florisumc.org
END:VEVENT
BEGIN:VEVENT
DTSTART;TZID=America/New_York:20250808T183000
DTEND;TZID=America/New_York:20250808T220000
DTSTAMP:20260424T092257
CREATED:20250729T135819Z
LAST-MODIFIED:20250807T144401Z
UID:10007405-1754677800-1754690400@www.florisumc.org
SUMMARY:Floris @ Friday Night Live
DESCRIPTION:Join Floris at Friday Night Live!\nFriday\, August 8th | 6:30 p.m. – 10:00 p.m. | Town Green\, Herndon \nLooking for a fun\, family-friendly way to spend your Friday evening this summer? We’d love for you to join members of Floris United Methodist Church for an informal community night out at Friday Night Live\, a local outdoor concert series featuring live music\, great energy\, and an all-ages crowd. \n\nAdmission is free\, and it’s the perfect opportunity to relax\, enjoy the music\, and connect with others in a casual\, open-air setting. Whether you’ve been part of Floris for years or just started attending\, this is a great way to meet new people and build relationships—no pressure\, no agenda\, just a good time with good company. \n\n\nWe plan to set up on the grassy hill area\, so feel free to bring a blanket or chair and look for our group!  You’re welcome to sit with us or find your own spot nearby. Whatever makes you most comfortable. \n\n\nThere’s no need to RSVP\, just come as you are\, bring your family or a friend\, and enjoy the evening. You’re welcome to sit with the group or find your own spot nearby. Either way\, we’d love to see you there and spend time together in a relaxed\, joyful atmosphere. \n\nEvents like these are a great reminder that church is more than just a building; it’s a community that shares life together\, both in worship and in the everyday moments that connect us.\nWe hope you’ll stop by and say hello!\nQuestions? Contact Megan Dietrick\nLocation details and band info available at: Herndon Rocks: Friday Night Live
URL:https://www.florisumc.org/event/floris-friday-night-live/
LOCATION:Town Green\, Herndon\, 777 Lynn ST\, Herndon\, 20170
CATEGORIES:Young Adults
ATTACH;FMTTYPE=image/png:https://www.florisumc.org/wp-content/uploads/2025/07/Friday-Night-Live.png
ORGANIZER;CN="Megan Dietrick":MAILTO:mDietrick@florisumc.org
END:VEVENT
BEGIN:VEVENT
DTSTART;TZID=America/New_York:20250809T063000
DTEND;TZID=America/New_York:20250809T093000
DTSTAMP:20260424T092257
CREATED:20241209T231605Z
LAST-MODIFIED:20250731T190857Z
UID:10006924-1754721000-1754731800@www.florisumc.org
SUMMARY:Embry Rucker Breakfast
DESCRIPTION:Join us as we prepare and serve breakfast to the unhoused at the Embry Rucker Shelter in Reston\, VA. Provide a welcoming presence and a warm meal on the 2nd Saturday of every month. \nSign up now > \nFor more information\, please contact Donna Porter at dporter@florisumc.org
URL:https://www.florisumc.org/event/embry-rucker/2025-08-09/
LOCATION:Embry Rucker\, 11975 Bowman Towne Drive\, Reston\, 20190\, United States
CATEGORIES:Embry Rucker,Serve
ATTACH;FMTTYPE=image/jpeg:https://www.florisumc.org/wp-content/uploads/2023/05/SE_Embry-Rucker-Breakfast-Service.jpg
ORGANIZER;CN="Debbie Cali":MAILTO:dcali@florisumc.org
END:VEVENT
END:VCALENDAR