BEGIN:VCALENDAR
VERSION:2.0
PRODID:-//Floris United Methodist Church - ECPv6.15.20//NONSGML v1.0//EN
CALSCALE:GREGORIAN
METHOD:PUBLISH
X-ORIGINAL-URL:https://www.florisumc.org
X-WR-CALDESC:Events for Floris United Methodist Church
REFRESH-INTERVAL;VALUE=DURATION:PT1H
X-Robots-Tag:noindex
X-PUBLISHED-TTL:PT1H
BEGIN:VTIMEZONE
TZID:America/New_York
BEGIN:DAYLIGHT
TZOFFSETFROM:-0500
TZOFFSETTO:-0400
TZNAME:EDT
DTSTART:20240310T070000
END:DAYLIGHT
BEGIN:STANDARD
TZOFFSETFROM:-0400
TZOFFSETTO:-0500
TZNAME:EST
DTSTART:20241103T060000
END:STANDARD
BEGIN:DAYLIGHT
TZOFFSETFROM:-0500
TZOFFSETTO:-0400
TZNAME:EDT
DTSTART:20250309T070000
END:DAYLIGHT
BEGIN:STANDARD
TZOFFSETFROM:-0400
TZOFFSETTO:-0500
TZNAME:EST
DTSTART:20251102T060000
END:STANDARD
BEGIN:DAYLIGHT
TZOFFSETFROM:-0500
TZOFFSETTO:-0400
TZNAME:EDT
DTSTART:20260308T070000
END:DAYLIGHT
BEGIN:STANDARD
TZOFFSETFROM:-0400
TZOFFSETTO:-0500
TZNAME:EST
DTSTART:20261101T060000
END:STANDARD
END:VTIMEZONE
BEGIN:VEVENT
DTSTART;TZID=America/New_York:20250810T090000
DTEND;TZID=America/New_York:20250810T090000
DTSTAMP:20260424T060929
CREATED:20250731T135313Z
LAST-MODIFIED:20250807T144443Z
UID:10007404-1754816400-1754816400@www.florisumc.org
SUMMARY:Teacher Blessing
DESCRIPTION:Back-to-School Teacher Blessing — Sunday\, August 10 \nWe believe that teaching is more than a job — it’s a calling that shapes the future. As a new school year begins\, we want to pause and lift up every teacher\, Sunday School leader\, school staff member\, and educator in our community. \nJoin us on Sunday\, August 10\, for a special Teacher Blessing during our service. Together\, we will pray for our teachers — for wisdom\, patience\, creativity\, and strength — as they step into classrooms\, hallways\, offices\, and playgrounds ready to make a difference. \nWhether you teach in a public school\, private school\, homeschool\, or lead one of our Sunday School classes\, we want you to know you are seen\, valued\, and supported. During the blessing\, each teacher and school staff member will receive a small gift as a token of our gratitude and a reminder that your church family is cheering you on throughout the year. \nWe invite every teacher to come and stand with us that Sunday — and if you know a teacher\, please invite them to attend. This is a wonderful moment for us to surround our educators with love and prayer as they prepare for the challenges and joys of a new academic year. \nLet’s come together as a church to remind these dedicated servants that they are not alone — we stand with them as they pour into the next generation.
URL:https://www.florisumc.org/event/teacher-blessing/
LOCATION:Floris UMC\, 13600 Frying Pan Road\, Herndon\, VA\, 20171
CATEGORIES:Adult
ATTACH;FMTTYPE=image/png:https://www.florisumc.org/wp-content/uploads/2025/07/teacher-blessing.png
END:VEVENT
BEGIN:VEVENT
DTSTART;TZID=America/New_York:20250810T090000
DTEND;TZID=America/New_York:20250810T120000
DTSTAMP:20260424T060929
CREATED:20241209T232435Z
LAST-MODIFIED:20250731T151558Z
UID:10006939-1754816400-1754827200@www.florisumc.org
SUMMARY:UpsideDown Moments Clothing Drive
DESCRIPTION:UpsideDown Moments Clothing Drive\nSecond Sunday of every month \nDonate your slightly used clothing sizes\, infants to adults\, that will be distributed quarterly to those in need through Grace Ministry. \nFor more information Contact Debbie Cali.
URL:https://www.florisumc.org/event/clothing/2025-08-10/
LOCATION:Floris UMC\, 13600 Frying Pan Road\, Herndon\, VA\, 20171
CATEGORIES:Adult,Serve
ATTACH;FMTTYPE=image/jpeg:https://www.florisumc.org/wp-content/uploads/2024/04/SE_UpsideDown-Moments-Clothing-Drive.jpg
ORGANIZER;CN="Donna Porter":MAILTO:dporter@florisumc.org
END:VEVENT
BEGIN:VEVENT
DTSTART;TZID=America/New_York:20250810T100000
DTEND;TZID=America/New_York:20250810T100000
DTSTAMP:20260424T060929
CREATED:20250630T184212Z
LAST-MODIFIED:20250709T152151Z
UID:10007375-1754820000-1754820000@www.florisumc.org
SUMMARY:Summer Children's Choir Sundays
DESCRIPTION:Summer Children’s Choir Sundays\nWe’re excited to invite your kids to take part in Children’s Choir Summer Sundays—a joyful opportunity for children to explore music\, grow in confidence\, and celebrate their faith through song! \nOpen to all children in Kindergarten through 5th grade\, these fun and welcoming sessions will focus on learning a worship song\, exploring basic vocal techniques\, and experiencing the joy of singing together as a group. No prior choir experience is required—just a love for music and a willingness to try something new! \nChildren’s Choir is more than just singing. It’s a chance to connect with other kids\, build friendships\, and take an active role in the life of the church in a creative and meaningful way. Whether your child loves to sing or is just curious\, they are welcome to join the fun! \nWe encourage families to attend one or both sessions and invite friends\, neighbors\, or classmates who might be interested. \nDetails:Date: Sunday\, July 13 | Sunday\, August 10Time: 10 a.m.Location: Music Room at Floris UMC \nIf you have questions or need more information\, please contact Yoon Nam.
URL:https://www.florisumc.org/event/summer-childrens-choir/2025-08-10/
LOCATION:Floris UMC\, 13600 Frying Pan Road\, Herndon\, VA\, 20171
CATEGORIES:Music,Summer Choir
ATTACH;FMTTYPE=image/png:https://www.florisumc.org/wp-content/uploads/2025/06/Floris-Images-45.png
ORGANIZER;CN="Yoon Nam":MAILTO:ynam@florisumc.org
END:VEVENT
BEGIN:VEVENT
DTSTART;TZID=America/New_York:20250811T173000
DTEND;TZID=America/New_York:20250811T183000
DTSTAMP:20260424T060929
CREATED:20241203T034621Z
LAST-MODIFIED:20241203T034621Z
UID:10006667-1754933400-1754937000@www.florisumc.org
SUMMARY:Happy Hour Step Meeting
DESCRIPTION:Alcoholics Anonymous Meetings at Floris UMC \n\nAlcoholics Anonymous is a fellowship of people who come together to solve their drinking problem. It doesn’t cost anything to attend A.A. meetings. There are no age or education requirements to participate. Membership is open to anyone who wants to do something about their drinking problem. Anyone with a desire to stop drinking is welcome\, regardless of race\, gender\, sexual orientation\, religion\, income or profession. And it’s free. At meetings you can just sit and listen and learn more about recovery\, or you can share about your situation. It’s completely up to you. A.A.’s primary purpose is to help alcoholics achieve sobriety.\nAlcoholics Anonymous > |  Virginia AA >\n  \nFor more information\, contact us at florishappyhour@gmail.com.
URL:https://www.florisumc.org/event/aa/2025-08-11/
LOCATION:Floris UMC\, 13600 Frying Pan Road\, Herndon\, VA\, 20171
CATEGORIES:AA,Alcoholics Anonymous®,Support Group,Virtually
ATTACH;FMTTYPE=image/jpeg:https://www.florisumc.org/wp-content/uploads/2024/02/CS_AA-2024.jpg
ORGANIZER;CN="Carol Benson":MAILTO:cbenson@florisumc.org
END:VEVENT
BEGIN:VEVENT
DTSTART;TZID=America/New_York:20250812T190000
DTEND;TZID=America/New_York:20250812T210000
DTSTAMP:20260424T060929
CREATED:20241209T230432Z
LAST-MODIFIED:20241209T230432Z
UID:10006901-1755025200-1755032400@www.florisumc.org
SUMMARY:Gospel Jam
DESCRIPTION:Enjoy an evening of the newest bluegrass gospel music as well as older gospel and praise song favorites. \nFor more information contact Eddie Dickerson at edickerson@florisumc.org.
URL:https://www.florisumc.org/event/gospel-jam-2/2025-08-12/
LOCATION:Floris UMC\, 13600 Frying Pan Road\, Herndon\, VA\, 20171
ATTACH;FMTTYPE=image/jpeg:https://www.florisumc.org/wp-content/uploads/2024/12/GOSPEL-JAM_WEB-1.jpg
END:VEVENT
BEGIN:VEVENT
DTSTART;TZID=America/New_York:20250814T173000
DTEND;TZID=America/New_York:20250814T183000
DTSTAMP:20260424T060929
CREATED:20241203T041247Z
LAST-MODIFIED:20241203T042604Z
UID:10006737-1755192600-1755196200@www.florisumc.org
SUMMARY:Happy Hour Big Book Meeting
DESCRIPTION:Alcoholics Anonymous Meetings at Floris UMC \n\nAlcoholics Anonymous is a fellowship of people who come together to solve their drinking problem. It doesn’t cost anything to attend A.A. meetings. There are no age or education requirements to participate. Membership is open to anyone who wants to do something about their drinking problem. Anyone with a desire to stop drinking is welcome\, regardless of race\, gender\, sexual orientation\, religion\, income or profession. And it’s free. At meetings you can just sit and listen and learn more about recovery\, or you can share about your situation. It’s completely up to you. A.A.’s primary purpose is to help alcoholics achieve sobriety.\nAlcoholics Anonymous >  |  Virginia AA >\n  \nFor more information\, contact us at florishappyhour@gmail.com.
URL:https://www.florisumc.org/event/aa-3/2025-08-14/
LOCATION:Floris UMC\, 13600 Frying Pan Road\, Herndon\, VA\, 20171
CATEGORIES:AA,Alcoholics Anonymous®,Support Group,Virtually
ATTACH;FMTTYPE=image/jpeg:https://www.florisumc.org/wp-content/uploads/2024/02/CS_AA-2024.jpg
ORGANIZER;CN="Carol Benson":MAILTO:cbenson@florisumc.org
END:VEVENT
END:VCALENDAR