BEGIN:VCALENDAR
VERSION:2.0
PRODID:-//Floris United Methodist Church - ECPv6.15.20//NONSGML v1.0//EN
CALSCALE:GREGORIAN
METHOD:PUBLISH
X-ORIGINAL-URL:https://www.florisumc.org
X-WR-CALDESC:Events for Floris United Methodist Church
REFRESH-INTERVAL;VALUE=DURATION:PT1H
X-Robots-Tag:noindex
X-PUBLISHED-TTL:PT1H
BEGIN:VTIMEZONE
TZID:America/New_York
BEGIN:DAYLIGHT
TZOFFSETFROM:-0500
TZOFFSETTO:-0400
TZNAME:EDT
DTSTART:20240310T070000
END:DAYLIGHT
BEGIN:STANDARD
TZOFFSETFROM:-0400
TZOFFSETTO:-0500
TZNAME:EST
DTSTART:20241103T060000
END:STANDARD
BEGIN:DAYLIGHT
TZOFFSETFROM:-0500
TZOFFSETTO:-0400
TZNAME:EDT
DTSTART:20250309T070000
END:DAYLIGHT
BEGIN:STANDARD
TZOFFSETFROM:-0400
TZOFFSETTO:-0500
TZNAME:EST
DTSTART:20251102T060000
END:STANDARD
BEGIN:DAYLIGHT
TZOFFSETFROM:-0500
TZOFFSETTO:-0400
TZNAME:EDT
DTSTART:20260308T070000
END:DAYLIGHT
BEGIN:STANDARD
TZOFFSETFROM:-0400
TZOFFSETTO:-0500
TZNAME:EST
DTSTART:20261101T060000
END:STANDARD
END:VTIMEZONE
BEGIN:VEVENT
DTSTART;VALUE=DATE:20250901
DTEND;VALUE=DATE:20251031
DTSTAMP:20260419T143049
CREATED:20250826T175740Z
LAST-MODIFIED:20250903T151512Z
UID:10007415-1756684800-1761868799@www.florisumc.org
SUMMARY:Yoon Nam - Prayer Garden
DESCRIPTION:Experience Art that Connects Faith\, Creativity\, and Community with Yoon Nam’s Prayer Garden Exhibit\nThe Floris Art Gallery invites you to experience this month’s featured collection – Yoon Nam’s Prayer Garden – a heartfelt exploration of faith and creativity born out of unexpected beginnings. \nDuring the pandemic\, many of us searched for new ways to find peace and purpose in uncertain times. For this month’s artist\, that journey began with simple YouTube tutorials and a paintbrush. What started as a pastime soon transformed into a spiritual practice—a way of slowing down\, listening\, and becoming more aware of God’s presence in the quiet moments of each day. \nThough not formally trained\, the artist discovered that painting could be more than just creating images on canvas. Each brushstroke became both a prayer and a reflection\, offering gratitude for the gift of life. Through this practice\, a deeper way of seeing the world emerged—one that celebrates simplicity\, beauty\, and stillness. \nThe collection features scenes of nature—trees reaching toward the sky\, flowers bursting with color\, waterscapes reflecting peace\, and skies alive with light. These works are not simply depictions of creation but invitations to experience it anew. They remind us that God’s beauty is always present—in the ordinary\, in the quiet\, and in the wonder we often overlook. \nWhen you visit the Floris Art Gallery this month\, you’ll encounter more than artwork on the walls. You’ll step into a space where faith and creativity meet\, where each piece is an offering of hope\, gratitude\, and awe. Whether you are an art enthusiast\, a seeker of spiritual reflection\, or simply someone who longs for a moment of stillness\, this exhibition offers a place to pause\, breathe\, and be renewed. \nLearn more about this month’s exhibition on our Art Gallery page. \nThe Floris Art Gallery also welcomes artists in our community to share their gifts. If you are interested in submitting your own work for consideration\, we invite you to apply to exhibit with us. \nCome and experience art that draws you closer to God\, to creation\, and to community.
URL:https://www.florisumc.org/event/yoon-nam-prayer-garden/
LOCATION:Floris UMC\, 13600 Frying Pan Road\, Herndon\, VA\, 20171
CATEGORIES:Art Gallery
ATTACH;FMTTYPE=image/png:https://www.florisumc.org/wp-content/uploads/2025/08/Social-Justice-5.png
END:VEVENT
BEGIN:VEVENT
DTSTART;VALUE=DATE:20251024
DTEND;VALUE=DATE:20251124
DTSTAMP:20260419T143049
CREATED:20251024T152325Z
LAST-MODIFIED:20251117T213243Z
UID:10008397-1761264000-1763942399@www.florisumc.org
SUMMARY:Floris Art Gallery Open Call for Artists
DESCRIPTION:Floris Art Gallery Open Call for Artists\nTheme: Love Boldly. Serve Joyfully. Lead Courageously.Submission Deadline: November 23\, 2025Exhibit Dates: January 21 – February 28\, 2026 \n\nEvent Description\nDo you express your faith through art? Whether you paint\, sculpt\, photograph\, or create with fiber or mixed media\, the Floris Art Gallery invites you to be part of our next community exhibit. This upcoming show\, “Love Boldly\, Serve Joyfully\, Lead Courageously\,” will celebrate the ways our congregation and staff embody these core values through creativity and imagination. \nArt has always been a reflection of the divine spark within us—a way to communicate truth\, hope\, and beauty that words alone cannot express. At Floris\, we believe creativity is one of the many ways we live out our faith. This exhibit provides a space for artists within our church community to share their gifts and inspire others to see God’s presence in new and meaningful ways. \nWe welcome submissions from all mediums and experience levels. Whether you’re a lifelong artist or just beginning to explore your creative side\, your work can be a powerful expression of faith that moves and uplifts others. Selected works will be featured in the Floris Art Gallery throughout January and February 2026. \nJoin us as we fill our gallery with the colors\, textures\, and stories of our own community—each piece a reflection of what it means to love boldly\, serve joyfully\, and lead courageously in today’s world. \n\nHow to Submit\nPlease submit your artwork by November 23\, 2025.Visit florisumc.org/art-gallery \nCome share your gifts\, celebrate creativity\, and help us bring faith to life through art.
URL:https://www.florisumc.org/event/open-call/
LOCATION:Floris UMC\, 13600 Frying Pan Road\, Herndon\, VA\, 20171
CATEGORIES:Art Gallery
ATTACH;FMTTYPE=image/png:https://www.florisumc.org/wp-content/uploads/2025/10/6.8.25-Art-Gallery-Following-My-Own-Path-1-e1763415155508.png
END:VEVENT
BEGIN:VEVENT
DTSTART;TZID=America/New_York:20251026T170000
DTEND;TZID=America/New_York:20251026T190000
DTSTAMP:20260419T143049
CREATED:20250624T131412Z
LAST-MODIFIED:20251020T154756Z
UID:10007371-1761498000-1761505200@www.florisumc.org
SUMMARY:Floris Fall Festival
DESCRIPTION:Join Us for Floris Fall Festival!\nGet ready for an evening full of laughter\, games\, and memories at Floris Fall Festival\, our can’t-miss fall fellowship event. \nWhether you’re coming for the friendly competition or the cozy vibes\, Floris Fall Festival is the perfect chance to hang out with friends\, meet new people\, and celebrate the season in style. Here’s what’s in store: \n\nGames & Challenges: Test your skills with indoor and outdoor activities.\nPumpkin Carving & Decorating: Bring your creativity! We’ll provide the pumpkins and tools.\nCostume Contest: Dress up for fun and a chance to win prizes!\nCandy Prizes: Exciting prizes and sweet surprises for our youngest festivalgoers.\nPopcorn & Cotton Candy Stations: Classic festival favorites to snack on while enjoying the festivities.\nMuch More!\n\nFloris Fall Festival is all about community\, connection\, and good old-fashioned fun. Whether you’ve been part of our group for a while or are brand new\, you’re welcome here! \nWant to Help Make the Fun Happen?It takes many hands to bring Floris Fall Festival to life! From game stations and crafts to setup and cleanup\, there’s a place for everyone to serve. \nSign up to volunteer here. \nDate: October 26\, 2025Time: 5-7 PMLocation: Floris UMCWho’s Invited: Everyone \nSee Last Year’s Highlights \nInvite your friends and don’t forget your costume! We can’t wait to see you there. \nFor more information contact Kara Stuebing.
URL:https://www.florisumc.org/event/fall-festival/
LOCATION:Floris UMC\, 13600 Frying Pan Road\, Herndon\, VA\, 20171
CATEGORIES:Rise Against Hunger,Student Ministry
ATTACH;FMTTYPE=image/png:https://www.florisumc.org/wp-content/uploads/2025/06/Web-982x519-1.png
END:VEVENT
BEGIN:VEVENT
DTSTART;TZID=America/New_York:20251027T173000
DTEND;TZID=America/New_York:20251027T183000
DTSTAMP:20260419T143049
CREATED:20241203T034621Z
LAST-MODIFIED:20241203T034621Z
UID:10006678-1761586200-1761589800@www.florisumc.org
SUMMARY:Happy Hour Step Meeting
DESCRIPTION:Alcoholics Anonymous Meetings at Floris UMC \n\nAlcoholics Anonymous is a fellowship of people who come together to solve their drinking problem. It doesn’t cost anything to attend A.A. meetings. There are no age or education requirements to participate. Membership is open to anyone who wants to do something about their drinking problem. Anyone with a desire to stop drinking is welcome\, regardless of race\, gender\, sexual orientation\, religion\, income or profession. And it’s free. At meetings you can just sit and listen and learn more about recovery\, or you can share about your situation. It’s completely up to you. A.A.’s primary purpose is to help alcoholics achieve sobriety.\nAlcoholics Anonymous > |  Virginia AA >\n  \nFor more information\, contact us at florishappyhour@gmail.com.
URL:https://www.florisumc.org/event/aa/2025-10-27/
LOCATION:Floris UMC\, 13600 Frying Pan Road\, Herndon\, VA\, 20171
CATEGORIES:AA,Alcoholics Anonymous®,Support Group,Virtually
ATTACH;FMTTYPE=image/jpeg:https://www.florisumc.org/wp-content/uploads/2024/02/CS_AA-2024.jpg
ORGANIZER;CN="Carol Benson":MAILTO:cbenson@florisumc.org
END:VEVENT
BEGIN:VEVENT
DTSTART;TZID=America/New_York:20251027T190000
DTEND;TZID=America/New_York:20251027T190000
DTSTAMP:20260419T143049
CREATED:20250903T162511Z
LAST-MODIFIED:20251020T155042Z
UID:10007425-1761591600-1761591600@www.florisumc.org
SUMMARY:Annual Charge Conference
DESCRIPTION:Join Us for the Annual Charge Conference\nYou are invited to join Floris UMC/Restoration’s leadership\, either in-person or online\, for our annual Charge Conference. This important gathering brings together clergy\, staff\, and lay leaders as we prayerfully look ahead to the coming year. \nAt the Charge Conference\, we will review and approve key items for 2026\, including clergy compensation and the election of lay leadership. These decisions ensure that our church continues to operate with integrity\, accountability\, and faithful stewardship as we live into our mission of making disciples of Jesus Christ for the transformation of the world. \nWhether you have been serving in leadership for many years or are simply curious to learn more about how our church organizes and makes decisions\, this is a meaningful opportunity to be part of the process. Your presence and engagement reflect the shared commitment of our entire church family to move forward together in faith. \nThis year\, you may participate in-person at Floris UMC or virtually from the comfort of your home. If you choose the online option\, please be sure to register in advance to receive the secure link for access. \nWe encourage all members to attend\, support our leaders\, and stay informed about the direction of our ministries in the year ahead. Together\, we will celebrate the work God is doing in and through our congregation and prepare ourselves for another year of vibrant ministry. \nDetails \n\nEvent: Annual Charge Conference\nFormat: In-person at Floris UMC or online via secure link\nRegistration: Required for virtual participation\n\nRegister here to attend virtually and receive your link. \nCome be part of this important moment in the life of our church as we faithfully plan\, discern\, and step forward into 2026.
URL:https://www.florisumc.org/event/charge-conference/
LOCATION:Floris UMC\, 13600 Frying Pan Road\, Herndon\, VA\, 20171
CATEGORIES:Adult
ATTACH;FMTTYPE=image/png:https://www.florisumc.org/wp-content/uploads/2025/09/10.27.25-Annual-Charge-Conference-e1760975352231.png
ORGANIZER;CN="Pam Borland":MAILTO:pborland@florisumc.org
END:VEVENT
BEGIN:VEVENT
DTSTART;TZID=America/New_York:20251028T100000
DTEND;TZID=America/New_York:20251028T160000
DTSTAMP:20260419T143049
CREATED:20241216T181232Z
LAST-MODIFIED:20250722T165803Z
UID:10006957-1761645600-1761667200@www.florisumc.org
SUMMARY:Blood Drive
DESCRIPTION:Hospitals are in huge need of blood and platelets to aid patients. Make a difference through the American Red Cross and donate blood today. Sign up to save a life> \n*Those who sign up can expect to have their blood drawn. \nIf this month is full\, check the next Blood Drive with openings. \nFor more information\, contact Debi Cali.
URL:https://www.florisumc.org/event/blood-drive/2025-10-28/
LOCATION:Floris UMC\, 13600 Frying Pan Road\, Herndon\, VA\, 20171
CATEGORIES:Adult,Blood Drive
ATTACH;FMTTYPE=image/png:https://www.florisumc.org/wp-content/uploads/2024/12/Floris-Images-46.png
ORGANIZER;CN="Debbie Cali":MAILTO:dcali@florisumc.org
END:VEVENT
BEGIN:VEVENT
DTSTART;TZID=America/New_York:20251030T173000
DTEND;TZID=America/New_York:20251030T183000
DTSTAMP:20260419T143049
CREATED:20241203T041247Z
LAST-MODIFIED:20241203T042604Z
UID:10006748-1761845400-1761849000@www.florisumc.org
SUMMARY:Happy Hour Big Book Meeting
DESCRIPTION:Alcoholics Anonymous Meetings at Floris UMC \n\nAlcoholics Anonymous is a fellowship of people who come together to solve their drinking problem. It doesn’t cost anything to attend A.A. meetings. There are no age or education requirements to participate. Membership is open to anyone who wants to do something about their drinking problem. Anyone with a desire to stop drinking is welcome\, regardless of race\, gender\, sexual orientation\, religion\, income or profession. And it’s free. At meetings you can just sit and listen and learn more about recovery\, or you can share about your situation. It’s completely up to you. A.A.’s primary purpose is to help alcoholics achieve sobriety.\nAlcoholics Anonymous >  |  Virginia AA >\n  \nFor more information\, contact us at florishappyhour@gmail.com.
URL:https://www.florisumc.org/event/aa-3/2025-10-30/
LOCATION:Floris UMC\, 13600 Frying Pan Road\, Herndon\, VA\, 20171
CATEGORIES:AA,Alcoholics Anonymous®,Support Group,Virtually
ATTACH;FMTTYPE=image/jpeg:https://www.florisumc.org/wp-content/uploads/2024/02/CS_AA-2024.jpg
ORGANIZER;CN="Carol Benson":MAILTO:cbenson@florisumc.org
END:VEVENT
BEGIN:VEVENT
DTSTART;TZID=America/New_York:20251101T080000
DTEND;TZID=America/New_York:20251101T090000
DTSTAMP:20260419T143049
CREATED:20250325T200442Z
LAST-MODIFIED:20250506T140837Z
UID:10007175-1761984000-1761987600@www.florisumc.org
SUMMARY:GRACE Ministries Distribution
DESCRIPTION:GRACE Ministries of the United Methodist Church is a mission project that serves low-income families in our community. It shares the gospel of God’s love through food clothing seven United Methodist churches in Northern Virginia. GRACE Ministries also provides Personal Care Aide (PCA) training Multicultural Certified Nurse Aide (CNA) training College Prep ESL classes for graduates of the CNA program These programs assist in easing emergency situations and create career opportunities in areas of significant workforce needs. Learn more about the GRACE Ministries Programs. \nSign Up > | Volunteer Request >\nUpsideDown Moments > | GRACE Ministries >\nFor more information\, contact Donner Porter at dporter@florisumc.org.
URL:https://www.florisumc.org/event/grace-2/2025-11-01/
LOCATION:Floris UMC\, 13600 Frying Pan Road\, Herndon\, VA\, 20171
CATEGORIES:Grace Ministries,Latino Ministry,Serve
ATTACH;FMTTYPE=image/jpeg:https://www.florisumc.org/wp-content/uploads/2023/09/SE_GRACE_Ministries.jpg
ORGANIZER;CN="Donna Porter":MAILTO:dporter@florisumc.org
END:VEVENT
BEGIN:VEVENT
DTSTART;TZID=America/New_York:20251101T183000
DTEND;TZID=America/New_York:20251101T183000
DTSTAMP:20260419T143049
CREATED:20250924T194800Z
LAST-MODIFIED:20251124T194511Z
UID:10007556-1762021800-1762021800@www.florisumc.org
SUMMARY:South Asian Worship & Fellowship
DESCRIPTION:South Asian Worship & Fellowship\nOn the first Saturday of every month\, Floris UMC opens its doors for a special evening of fellowship and worship designed to bring together families and individuals from India\, Pakistan\, and beyond. This monthly gathering is a unique opportunity to celebrate culture\, community\, and faith in a welcoming and supportive environment. \nEach gathering includes time to connect with others as well as to join together in worship. You’ll have the chance to meet new friends\, share in meaningful conversations\, and strengthen relationships while also experiencing the joy of praising God as a community. Families will find this to be a wonderful setting to introduce children to the richness of cultural traditions while also being part of a caring and diverse church family. Whether you are new to the area\, exploring faith\, or simply seeking a place to belong\, you’ll discover that this is a space where everyone is valued and welcomed. \nThe worship experience is designed to be both uplifting and inclusive\, blending elements of United Methodist tradition with the vibrant spirit of our diverse community. Through prayer\, scripture\, and music\, we lift our hearts to God and celebrate the love of Christ that unites us across cultures and languages. At the same time\, the fellowship component allows us to build lasting connections\, nurture friendships\, and encourage one another in faith. \nThis gathering isn’t just about attending a service or a program—it’s about being part of something larger: a community that reflects the beauty of God’s diverse family. We invite you to bring your family\, invite friends\, and come ready to experience the warmth of connection and the joy of worship. \nJoin us on the first Saturday of each month and be part of this meaningful celebration of faith and community. \nFor more information or if you have questions\, please contact Megan Dietrick.
URL:https://www.florisumc.org/event/south-asian-worship-fellowship/2025-11-01/
LOCATION:Floris UMC\, 13600 Frying Pan Road\, Herndon\, VA\, 20171
CATEGORIES:South Asian Ministry
ATTACH;FMTTYPE=image/jpeg:https://www.florisumc.org/wp-content/uploads/2024/02/DM_South-Asian-Worship.jpg
ORGANIZER;CN="Megan Dietrick":MAILTO:mDietrick@florisumc.org
END:VEVENT
END:VCALENDAR