BEGIN:VCALENDAR
VERSION:2.0
PRODID:-//Floris United Methodist Church - ECPv6.15.20//NONSGML v1.0//EN
CALSCALE:GREGORIAN
METHOD:PUBLISH
X-ORIGINAL-URL:https://www.florisumc.org
X-WR-CALDESC:Events for Floris United Methodist Church
REFRESH-INTERVAL;VALUE=DURATION:PT1H
X-Robots-Tag:noindex
X-PUBLISHED-TTL:PT1H
BEGIN:VTIMEZONE
TZID:America/New_York
BEGIN:DAYLIGHT
TZOFFSETFROM:-0500
TZOFFSETTO:-0400
TZNAME:EDT
DTSTART:20250309T070000
END:DAYLIGHT
BEGIN:STANDARD
TZOFFSETFROM:-0400
TZOFFSETTO:-0500
TZNAME:EST
DTSTART:20251102T060000
END:STANDARD
BEGIN:DAYLIGHT
TZOFFSETFROM:-0500
TZOFFSETTO:-0400
TZNAME:EDT
DTSTART:20260308T070000
END:DAYLIGHT
BEGIN:STANDARD
TZOFFSETFROM:-0400
TZOFFSETTO:-0500
TZNAME:EST
DTSTART:20261101T060000
END:STANDARD
BEGIN:DAYLIGHT
TZOFFSETFROM:-0500
TZOFFSETTO:-0400
TZNAME:EDT
DTSTART:20270314T070000
END:DAYLIGHT
BEGIN:STANDARD
TZOFFSETFROM:-0400
TZOFFSETTO:-0500
TZNAME:EST
DTSTART:20271107T060000
END:STANDARD
END:VTIMEZONE
BEGIN:VEVENT
DTSTART;VALUE=DATE:20260105
DTEND;VALUE=DATE:20260303
DTSTAMP:20260423T123604
CREATED:20260111T065334Z
LAST-MODIFIED:20260115T162553Z
UID:10008565-1767571200-1772495999@www.florisumc.org
SUMMARY:Through the Lens with Alexis Doty: Love\, Serve\, Lead
DESCRIPTION:Through the Lens: Love\, Serve\, Lead\nAn Art Gallery Experience Featuring the Work of Alexis Doty \nThrough the Lens is an immersive art gallery experience that invites viewers to slow down\, reflect\, and see the sacred in everyday moments. Featuring the photography and videography of Alexis Doty\, this exhibition highlights the quiet beauty\, honest emotion\, and powerful stories found within the life and ministry of Floris UMC. \nTitled Love\, Serve\, Lead\, this show explores what it means to live out faith through action. Each image captures moments of compassion\, service\, leadership\, and connection\, revealing how love is expressed not only through words\, but through presence\, care\, and community. From worship and fellowship to service and outreach\, Alexis’s work offers a visual narrative of a church actively living its calling. \nAs both a photographer and videographer at Floris UMC\, Alexis Doty brings a deeply personal and thoughtful perspective to her work. Her lens focuses on authenticity rather than perfection\, drawing attention to the small but meaningful interactions that often go unnoticed. These images invite viewers to pause\, look closer\, and consider how love\, service\, and leadership are embodied in everyday life. \nThrough the Lens is more than an art show. It is an invitation to reflect on our shared values and how they take shape in real people and real moments. Whether you are part of the Floris community or visiting for the first time\, this exhibition creates space for contemplation\, conversation\, and inspiration. \nGuests are encouraged to move through the gallery at their own pace\, allowing each piece to speak to them personally. The experience is designed to be accessible and welcoming to all\, offering a meaningful way to engage with art\, faith\, and community. \nTo learn more about upcoming exhibits and events\, visit our Art Gallery page. \nJoin us for Through the Lens: Love\, Serve\, Lead and experience a visual journey that celebrates the heart of Floris UMC. Come see how love is lived\, service is offered\, and leadership is shaped through faith in action.
URL:https://www.florisumc.org/event/through-the-lens-with-alexis/
LOCATION:Floris UMC\, 13600 Frying Pan Road\, Herndon\, VA\, 20171
CATEGORIES:Art Gallery
ATTACH;FMTTYPE=image/png:https://www.florisumc.org/wp-content/uploads/2026/01/1.5.26-Art-Gallery-Through-the-Lens.png
END:VEVENT
BEGIN:VEVENT
DTSTART;TZID=America/New_York:20260125T140000
DTEND;TZID=America/New_York:20260125T160000
DTSTAMP:20260423T123604
CREATED:20251217T215402Z
LAST-MODIFIED:20260408T143437Z
UID:10008535-1769349600-1769356800@www.florisumc.org
SUMMARY:Coffee with the Pastors
DESCRIPTION:Coffee with the Pastors: Explore Membership and Get to Know Floris UMC\nAre you new to Floris United Methodist Church or looking to take the next step in your faith journey? Join us for Coffee with the Pastors\, a welcoming and informative gathering designed to help you learn more about who we are\, what we believe\, and how you can get connected. \nThis casual\, conversation-style event is a great opportunity to meet our pastors\, hear the story and mission of Floris UMC\, and discover the many ways you can engage\, grow\, and serve in our church community. Whether you’re exploring membership or simply curious about what it means to be a part of the Floris family\, we invite you to come as you are and bring your questions. \nOver a warm cup of coffee (or tea!)\, you’ll hear about the core values that shape our ministry\, the variety of programs we offer for all ages\, and the many opportunities for service and spiritual growth. You’ll also learn about the United Methodist tradition and what makes Floris a unique and vibrant faith community in the heart of Northern Virginia. \nThis is a no-pressure\, relaxed environment—just real conversations with real people who are passionate about helping you find your place in our church home. \nReady to learn more and take that next step? \nRegister below for Coffee with the Pastors and begin your journey toward deeper connection and purpose at Floris UMC. We can’t wait to meet you! \nRegister to Attend >
URL:https://www.florisumc.org/event/coffee-with-the-pastors/2026-01-25/
LOCATION:Floris UMC\, 13600 Frying Pan Road\, Herndon\, VA\, 20171
CATEGORIES:Coffee with the Pastors
ATTACH;FMTTYPE=image/png:https://www.florisumc.org/wp-content/uploads/2025/12/Web-Version-2-e1775658868221.png
END:VEVENT
BEGIN:VEVENT
DTSTART;TZID=America/New_York:20260128T180000
DTEND;TZID=America/New_York:20260128T191500
DTSTAMP:20260423T123604
CREATED:20251111T153710Z
LAST-MODIFIED:20251111T153711Z
UID:10007459-1769623200-1769627700@www.florisumc.org
SUMMARY:Spiritual Recovery Community
DESCRIPTION:Spiritual Recovery Community: Finding Healing After Church Hurt\nHave you walked away from a faith community or wrestled with the pain of high-control or fear-based religion? You are not alone—and your story matters. Many people carry wounds from spiritual environments that were meant to offer hope but instead left scars of judgment\, fear\, or exclusion. This event is designed with you in mind: a safe\, welcoming space to explore healthier ways of engaging with faith. \nOur time together will focus on topics specific to church-hurt\, spiritual trauma\, and the challenges of deconstructing harmful religious experiences. You’ll have the opportunity to share your frustrations\, ask questions\, and connect with others who understand what you’ve been through. Whether you’re still processing\, searching for new meaning\, or simply longing to be heard\, this is a place where your journey is honored without pressure or judgment. \nWe’ll strive for balance: combining thoughtful\, intellectual conversation about faith and spirituality with opportunities for personal and communal healing. This isn’t about quick fixes or forcing belief—it’s about holding space for honesty\, curiosity\, and growth. Together\, we’ll create a community where listening\, respect\, and compassion guide our conversations. \nIf you’ve ever felt silenced\, dismissed\, or misunderstood in your faith journey\, this gathering offers a chance to breathe\, reflect\, and rediscover hope in a healthier\, more life-giving form of spirituality. \nCome as you are. Bring your questions\, your doubts\, and your story.\n \nYou don’t have to navigate this alone—join us and find support among people who get it. \n\nWhen: 2nd & 4th Wednesdays\, September – June\nTime: 6:00 – 7:15 p.m.\nNot Meeting: November 26\, 2025 & December 24\, 2025\n\nRegister Now >
URL:https://www.florisumc.org/event/spiritual-recovery-2-2/2026-01-28/
LOCATION:Floris UMC\, 13600 Frying Pan Road\, Herndon\, VA\, 20171
CATEGORIES:Adult,Young Adults
ATTACH;FMTTYPE=image/jpeg:https://www.florisumc.org/wp-content/uploads/2025/09/Spiritual.jpg
ORGANIZER;CN="Megan Dietrick":MAILTO:mDietrick@florisumc.org
END:VEVENT
BEGIN:VEVENT
DTSTART;TZID=America/New_York:20260128T201000
DTEND;TZID=America/New_York:20260128T210000
DTSTAMP:20260423T123604
CREATED:20260113T210326Z
LAST-MODIFIED:20260114T141024Z
UID:10008583-1769631000-1769634000@www.florisumc.org
SUMMARY:Good Friday Cantata Recruitment
DESCRIPTION:Join the Good Friday Cantata\nCalling choir members\, musicians\, and narrators \nEach year\, Floris UMC’s Good Friday Cantata offers a powerful and prayerful way to journey through the story of Christ’s passion through music\, Scripture\, and reflection. We invite you to be part of this meaningful worship experience by joining the Good Friday Cantata Choir\, Orchestra\, or Narration Team. \nThis annual cantata brings together singers\, instrumentalists\, and readers from across the church to create a moving service that helps lead the congregation into the depth and significance of Good Friday. Whether you are a seasoned musician or someone who simply loves to worship through music and storytelling\, there is a place for you. \n\nWho Can Participate\n\nChoir members (no audition required)\nOrchestra musicians (various instruments welcome)\nNarrators/readers to help guide the congregation through Scripture and reflection\n\nAdults and youth with musical or reading experience are encouraged to participate. This is a wonderful opportunity to serve in worship and be part of a collaborative\, Spirit-led ministry. \n\nRecruitment & Information Sessions\nInterested participants are invited to attend one of the following recruitment sessions to learn more about the cantata\, rehearsal schedule\, and participation expectations: \n\nWednesday\, January 28 | 8:10–9:00 pm\nSunday\, February 1 | 12:15–1:00 pm\n\nRehearsals will begin at the end of January\, with details shared at the recruitment sessions. \n\nWhy Join?\n\nContribute your gifts to a deeply meaningful Good Friday service\nExperience worship through music\, storytelling\, and collaboration\nBe part of a long-standing Floris UMC tradition that impacts the entire congregation\n\n\nRegistration\nRegistration is required to help us plan and coordinate rehearsals and roles. There is no cost to participate. \nRegister Here > \nRegistration closes: February 22\, 2026 \nWhether you sing\, play\, or speak\, your participation helps bring the Good Friday story to life. We hope you’ll prayerfully consider joining this important ministry and sharing your gifts in worship.
URL:https://www.florisumc.org/event/cantata-recruitment-2/2026-01-28/
LOCATION:Floris UMC\, 13600 Frying Pan Road\, Herndon\, VA\, 20171
CATEGORIES:Music
ATTACH;FMTTYPE=image/jpeg:https://www.florisumc.org/wp-content/uploads/2024/01/MM_Good_Friday_Cantata_WEB.jpg
ORGANIZER;CN="Yoon Nam":MAILTO:ynam@florisumc.org
END:VEVENT
END:VCALENDAR