BEGIN:VCALENDAR
VERSION:2.0
PRODID:-//Floris United Methodist Church - ECPv6.15.20//NONSGML v1.0//EN
CALSCALE:GREGORIAN
METHOD:PUBLISH
X-ORIGINAL-URL:https://www.florisumc.org
X-WR-CALDESC:Events for Floris United Methodist Church
REFRESH-INTERVAL;VALUE=DURATION:PT1H
X-Robots-Tag:noindex
X-PUBLISHED-TTL:PT1H
BEGIN:VTIMEZONE
TZID:America/New_York
BEGIN:DAYLIGHT
TZOFFSETFROM:-0500
TZOFFSETTO:-0400
TZNAME:EDT
DTSTART:20250309T070000
END:DAYLIGHT
BEGIN:STANDARD
TZOFFSETFROM:-0400
TZOFFSETTO:-0500
TZNAME:EST
DTSTART:20251102T060000
END:STANDARD
BEGIN:DAYLIGHT
TZOFFSETFROM:-0500
TZOFFSETTO:-0400
TZNAME:EDT
DTSTART:20260308T070000
END:DAYLIGHT
BEGIN:STANDARD
TZOFFSETFROM:-0400
TZOFFSETTO:-0500
TZNAME:EST
DTSTART:20261101T060000
END:STANDARD
BEGIN:DAYLIGHT
TZOFFSETFROM:-0500
TZOFFSETTO:-0400
TZNAME:EDT
DTSTART:20270314T070000
END:DAYLIGHT
BEGIN:STANDARD
TZOFFSETFROM:-0400
TZOFFSETTO:-0500
TZNAME:EST
DTSTART:20271107T060000
END:STANDARD
END:VTIMEZONE
BEGIN:VEVENT
DTSTART;VALUE=DATE:20260105
DTEND;VALUE=DATE:20260303
DTSTAMP:20260419T182923
CREATED:20260111T065334Z
LAST-MODIFIED:20260115T162553Z
UID:10008565-1767571200-1772495999@www.florisumc.org
SUMMARY:Through the Lens with Alexis Doty: Love\, Serve\, Lead
DESCRIPTION:Through the Lens: Love\, Serve\, Lead\nAn Art Gallery Experience Featuring the Work of Alexis Doty \nThrough the Lens is an immersive art gallery experience that invites viewers to slow down\, reflect\, and see the sacred in everyday moments. Featuring the photography and videography of Alexis Doty\, this exhibition highlights the quiet beauty\, honest emotion\, and powerful stories found within the life and ministry of Floris UMC. \nTitled Love\, Serve\, Lead\, this show explores what it means to live out faith through action. Each image captures moments of compassion\, service\, leadership\, and connection\, revealing how love is expressed not only through words\, but through presence\, care\, and community. From worship and fellowship to service and outreach\, Alexis’s work offers a visual narrative of a church actively living its calling. \nAs both a photographer and videographer at Floris UMC\, Alexis Doty brings a deeply personal and thoughtful perspective to her work. Her lens focuses on authenticity rather than perfection\, drawing attention to the small but meaningful interactions that often go unnoticed. These images invite viewers to pause\, look closer\, and consider how love\, service\, and leadership are embodied in everyday life. \nThrough the Lens is more than an art show. It is an invitation to reflect on our shared values and how they take shape in real people and real moments. Whether you are part of the Floris community or visiting for the first time\, this exhibition creates space for contemplation\, conversation\, and inspiration. \nGuests are encouraged to move through the gallery at their own pace\, allowing each piece to speak to them personally. The experience is designed to be accessible and welcoming to all\, offering a meaningful way to engage with art\, faith\, and community. \nTo learn more about upcoming exhibits and events\, visit our Art Gallery page. \nJoin us for Through the Lens: Love\, Serve\, Lead and experience a visual journey that celebrates the heart of Floris UMC. Come see how love is lived\, service is offered\, and leadership is shaped through faith in action.
URL:https://www.florisumc.org/event/through-the-lens-with-alexis/
LOCATION:Floris UMC\, 13600 Frying Pan Road\, Herndon\, VA\, 20171
CATEGORIES:Art Gallery
ATTACH;FMTTYPE=image/png:https://www.florisumc.org/wp-content/uploads/2026/01/1.5.26-Art-Gallery-Through-the-Lens.png
END:VEVENT
BEGIN:VEVENT
DTSTART;TZID=America/New_York:20260207T170000
DTEND;TZID=America/New_York:20260208T070000
DTSTAMP:20260419T182923
CREATED:20251222T200310Z
LAST-MODIFIED:20251223T135943Z
UID:10008560-1770483600-1770534000@www.florisumc.org
SUMMARY:Guest House
DESCRIPTION:Floris Guest House | Be Our Guest in 2026\nEach winter\, Floris UMC opens its doors to neighbors in need through the Hypothermia Prevention Program\, also known as the Floris Guest House. From February 1–8\, 2026\, our church will become a warm\, safe\, and welcoming overnight shelter for individuals experiencing homelessness in our community. This ministry is a powerful way to live out compassion\, hospitality\, and service during the coldest months of the year. \nFloris Guest House is more than a place to sleep. It is a place of dignity\, care\, and human connection. Guests are welcomed into a clean\, organized\, and respectful environment where volunteers help create a sense of safety and belonging. Whether you are greeting guests\, helping with logistics\, or supporting overnight operations\, every role plays an important part in making this ministry possible. \nVolunteer Opportunities \nVolunteers are needed each day for three shifts: \n\n4:00–7:00 PM\n7:00–11:00 PM\nOvernight\n\nThere are many non food related volunteer roles available\, and positions are listed by date so you can choose what works best for your schedule. Opportunities include setup and breakdown\, hospitality support\, monitoring roles\, cleaning and transition support\, and overnight presence. \nAvailable roles include: \n\nSet Up Crew\nMorning Cleaning and Transition\nHall Monitor (Monday only)\nHospitality Crew (Monday only)\nAfternoon Monitor\nEvening Monitor\nBreakdown Crew\n\nWho Can Volunteer \nPer FACETS guidelines\, students younger than 14 are not permitted to volunteer. Volunteers ages 14–17 must be accompanied by an adult and may serve only in specific roles. Adults of all ages are encouraged to participate\, whether individually\, with a friend\, or as part of a group. \nNo prior experience is required. Training and clear instructions will be provided\, and you will always serve alongside other volunteers. \nWhy It Matters \nBy volunteering at Floris Guest House\, you are offering warmth\, stability\, and kindness to neighbors who need it most. Small acts of service\, done together\, create meaningful impact. \nRegistration Required \nPlease register in advance to volunteer so we can coordinate roles and coverage.\nRegister to Volunteer Here > \nFor questions about volunteering or specific positions\, contact Debbie Cali. \nJoin us as we open our doors\, share hospitality\, and serve with love this winter.
URL:https://www.florisumc.org/event/guest-house/2026-02-07/
LOCATION:Floris UMC\, 13600 Frying Pan Road\, Herndon\, VA\, 20171
CATEGORIES:Floris Guest House
ATTACH;FMTTYPE=image/jpeg:https://www.florisumc.org/wp-content/uploads/2023/01/SE_Floris_Guest_House_982x519.jpg
ORGANIZER;CN="Debbie Cali":MAILTO:dcali@florisumc.org
END:VEVENT
BEGIN:VEVENT
DTSTART;TZID=America/New_York:20260208T150000
DTEND;TZID=America/New_York:20260208T150000
DTSTAMP:20260419T182923
CREATED:20260123T151959Z
LAST-MODIFIED:20260202T201919Z
UID:10008594-1770562800-1770562800@www.florisumc.org
SUMMARY:Sierra Leone Mission Trip Interest Meeting
DESCRIPTION:Sierra Leone Mission Trip Interest Meeting\nJoin us for the Sierra Leone Mission Trip Interest Meeting and learn more about a life-changing opportunity to serve\, grow in faith\, and build meaningful relationships through global mission work. \nHelping Children Worldwide partners with local leaders in Sierra Leone to support sustainable\, community-driven initiatives that bring hope\, dignity\, and long-term impact. Mission teams serve alongside trusted leaders\, focusing on collaboration\, relationship-building\, and shared purpose rather than short-term solutions. \nThis interest meeting is for anyone who feels drawn to global missions or wants to explore how faith can be lived out through service beyond our local community. Whether you are actively considering the trip or simply curious\, this meeting provides space to learn\, reflect\, and ask questions. \nWhat You Will Learn\nDuring the meeting\, you will hear more about: \n\nHelping Children Worldwide and their mission in Sierra Leone\nThe purpose and vision of the upcoming trip\nService opportunities alongside local ministries\nTeam expectations\, preparation\, and fundraising\nTravel logistics and important timelines\n\nThere will also be time for questions and conversation\, as well as guidance for prayerfully discerning whether this trip may be right for you. \nAbout the Trip\n\nApplication Deadline: February 16\, 2026\nTravel Dates: July 19–August 1\, 2026\nWho Can Go: Anyone with a willing heart and openness to serve\nExperience Needed: No prior mission experience required\n\nThis mission trip is an opportunity to step outside of your comfort zone\, deepen your faith\, and witness how God is at work in a global community. Participants often describe the experience as both humbling and transformative. \nJoin Us\nIf you are looking for a meaningful way to serve others\, grow spiritually\, and make a lasting impact\, we invite you to attend the Sierra Leone Mission Trip Interest Meeting. \nInterest Meeting Date: February 8 at 3 PM \nSign up online to attend.
URL:https://www.florisumc.org/event/hcw-interest-meeting/
LOCATION:Floris UMC\, 13600 Frying Pan Road\, Herndon\, VA\, 20171
CATEGORIES:Mission Trip
ATTACH;FMTTYPE=image/jpeg:https://www.florisumc.org/wp-content/uploads/2025/02/SE-Mission-Trip-to-Sierra-Leone-WEB-982x519-1.jpg
END:VEVENT
BEGIN:VEVENT
DTSTART;TZID=America/New_York:20260209T180000
DTEND;TZID=America/New_York:20260209T190000
DTSTAMP:20260419T182923
CREATED:20251003T185838Z
LAST-MODIFIED:20251020T191835Z
UID:10008378-1770660000-1770663600@www.florisumc.org
SUMMARY:Pride Alliance Meetings
DESCRIPTION:Pride Alliance at Floris UMC\nThe Pride Alliance at Floris UMC is a vibrant\, welcoming community dedicated to fostering an inclusive and affirming environments for all individuals—regardless of sexual orientation or gender identity. We believe that every person is a beloved child of God\, deserving of respect\, love\, and belonging. \nOur mission is to create meaningful change both within our church and across the broader United Methodist denomination. We work closely with the Floris UMC Church Council to offer thoughtful recommendations and to help carry out approved actions that reflect our core values of love\, justice\, and equality. From advocating for inclusive language and policies to supporting initiatives that remove discrimination against LGBTQ+ individuals\, our efforts are rooted in faith and guided by the desire to see every person welcomed fully into the life of the church. \nThe Pride Alliance also serves as a restoration ministry\, intentionally engaging in conversations and actions that address inequities and challenge barriers faced by LGBTQ+ members in the church. Our work is both practical and spiritual: we advocate for systemic change while nurturing a safe\, supportive space for individuals to grow in their faith. \nMost importantly\, the Pride Alliance is a community of support\, love\, and healing. Whether you are exploring your faith\, seeking a space where you can be fully yourself\, or looking to connect with others committed to equality\, we are here to walk alongside you. \nJoin us and be part of a community committed to love\, equity\, and meaningful transformation. \nLearn More >
URL:https://www.florisumc.org/event/pride-alliance/2026-02-09/
LOCATION:VA
CATEGORIES:Pride Alliance
ATTACH;FMTTYPE=image/png:https://www.florisumc.org/wp-content/uploads/2025/10/Pride-Alliance.png
ORGANIZER;CN="Megan Dietrick":MAILTO:mDietrick@florisumc.org
END:VEVENT
BEGIN:VEVENT
DTSTART;TZID=America/New_York:20260211T180000
DTEND;TZID=America/New_York:20260211T191500
DTSTAMP:20260419T182923
CREATED:20250904T200038Z
LAST-MODIFIED:20251117T213545Z
UID:10007442-1770832800-1770837300@www.florisumc.org
SUMMARY:Spiritual Recovery Community
DESCRIPTION:Spiritual Recovery Community: Finding Healing After Church Hurt\nHave you walked away from a faith community or wrestled with the pain of high-control or fear-based religion? You are not alone—and your story matters. Many people carry wounds from spiritual environments that were meant to offer hope but instead left scars of judgment\, fear\, or exclusion. This event is designed with you in mind: a safe\, welcoming space to explore healthier ways of engaging with faith. \nOur time together will focus on topics specific to church-hurt\, spiritual trauma\, and the challenges of deconstructing harmful religious experiences. You’ll have the opportunity to share your frustrations\, ask questions\, and connect with others who understand what you’ve been through. Whether you’re still processing\, searching for new meaning\, or simply longing to be heard\, this is a place where your journey is honored without pressure or judgment. \nWe’ll strive for balance: combining thoughtful\, intellectual conversation about faith and spirituality with opportunities for personal and communal healing. This isn’t about quick fixes or forcing belief—it’s about holding space for honesty\, curiosity\, and growth. Together\, we’ll create a community where listening\, respect\, and compassion guide our conversations. \nIf you’ve ever felt silenced\, dismissed\, or misunderstood in your faith journey\, this gathering offers a chance to breathe\, reflect\, and rediscover hope in a healthier\, more life-giving form of spirituality. \nCome as you are. Bring your questions\, your doubts\, and your story.\n \nYou don’t have to navigate this alone—join us and find support among people who get it. \n\nWhen: 2nd & 4th Wednesdays\, September – June\nTime: 6:00 – 7:15 p.m.\nNot Meeting: November 26\, 2025 & December 24\, 2025\n\nRegister Now >
URL:https://www.florisumc.org/event/spiritual-recovery/2026-02-11/
LOCATION:Floris UMC\, 13600 Frying Pan Road\, Herndon\, VA\, 20171
CATEGORIES:Adult
ATTACH;FMTTYPE=image/png:https://www.florisumc.org/wp-content/uploads/2025/09/Web-Spiritual-Recovery.png
END:VEVENT
BEGIN:VEVENT
DTSTART;TZID=America/New_York:20260211T190000
DTEND;TZID=America/New_York:20260211T203000
DTSTAMP:20260419T182923
CREATED:20260226T193822Z
LAST-MODIFIED:20260226T204823Z
UID:10008623-1770836400-1770841800@www.florisumc.org
SUMMARY:Grief to Peace
DESCRIPTION:Grief to Peace: A Christ-Centered Support Group for Those Who Are Grieving\nWednesdays\, February 11 – March 18 | 7:00–8:30 PM \nGrief is a journey no one wants to take\, but one many of us must. If you’ve experienced the loss of someone close to you and are looking for comfort\, hope\, and healing\, Grief to Peace offers a safe and compassionate space to begin that journey — one step at a time\, with God by your side. \nThis six-week\, Christian-based support group is designed for anyone navigating the pain of grief. Whether your loss is recent or something you’ve carried for years\, you are welcome here. In a small group setting\, you’ll find encouragement\, connection\, and spiritual tools that can help you make sense of your grief and begin to heal. \nEach week\, we’ll explore common experiences of grief\, such as how it impacts your daily life\, relationships\, emotions\, and faith. You’ll learn spiritual strategies rooted in scripture for managing the physical\, mental\, and emotional weight of grief. More importantly\, you’ll be reminded that you are not alone. \nThe group format includes: \n\nGuided scripture reflections\nWhole-group discussions\nOptional personal sharing\nPrayer and spiritual encouragement\n\nThis is a space where you are free to speak\, reflect\, cry\, or simply listen — wherever you are in your grief process\, Grief to Peace meets you there. \nRegister Now > \nWe encourage you to register early to reserve your spot and help us prepare for your participation. \nLocation: Floris UMC\nGrief to Peace Dates: Wednesdays\, February 11 – March 18\, 2026\nGrief to Peace Time: 7:00–8:30 PM \nLet’s journey together — from grief to peace. \nFor more information\, contact Roger Mahach.
URL:https://www.florisumc.org/event/grief/2026-02-11/
LOCATION:Floris UMC\, 13600 Frying Pan Road\, Herndon\, VA\, 20171
CATEGORIES:Grief to Peace
ATTACH;FMTTYPE=image/png:https://www.florisumc.org/wp-content/uploads/2025/07/Grief-to-Peace-2025.png
END:VEVENT
BEGIN:VEVENT
DTSTART;TZID=America/New_York:20260213T173000
DTEND;TZID=America/New_York:20260213T190000
DTSTAMP:20260419T182923
CREATED:20260113T192836Z
LAST-MODIFIED:20260114T154505Z
UID:10008582-1771003800-1771009200@www.florisumc.org
SUMMARY:Messy Church: Jesus Loves Me
DESCRIPTION:Messy Church: Jesus Loves Me\nJoin us on Friday\, February 13\, from 5:30–7:00 pm at Floris UMC for a special Messy Church event celebrating Jesus’ love for everyone. This month’s theme\, Jesus Loves Me\, is all about exploring God’s love through interactive\, hands-on activities that the whole family can enjoy. \nMessy Church is designed for all ages and offers a relaxed\, engaging experience where children\, parents\, grandparents\, and caregivers can learn\, play\, and grow together. It’s not a traditional worship service—expect laughter\, creativity\, and maybe a little mess! \n\nWhat to Expect\n\nLove-themed crafts: Create something special to celebrate Valentine’s week\nFun games: Activities for kids and adults to enjoy together\nShort Bible lesson: A meaningful message about Jesus’ love\nDinner and fellowship: Share a meal and connect with other families\n\n\nMessy Church is a wonderful opportunity to spend quality time together\, strengthen your faith\, and connect with the Floris community. It’s a safe\, welcoming space where everyone belongs and can experience God’s love in a hands-on\, memorable way. \n\nRegistration\n\nCost: $5 per person\nClose: February 15\, 2026\nRegister for Messy Church: Jesus Loves Me >\n\nDon’t miss this chance to celebrate Valentine’s week in a meaningful and fun way! Bring your family and friends and experience the joy\, creativity\, and love that Messy Church offers.
URL:https://www.florisumc.org/event/jesus-loves-me/
LOCATION:Floris UMC\, 13600 Frying Pan Road\, Herndon\, VA\, 20171
CATEGORIES:Messy Church
ATTACH;FMTTYPE=image/png:https://www.florisumc.org/wp-content/uploads/2025/01/calendar-items.png
END:VEVENT
BEGIN:VEVENT
DTSTART;TZID=America/New_York:20260213T183000
DTEND;TZID=America/New_York:20260213T210000
DTSTAMP:20260419T182923
CREATED:20251215T205123Z
LAST-MODIFIED:20260223T150155Z
UID:10008586-1771007400-1771016400@www.florisumc.org
SUMMARY:Floris Game Night
DESCRIPTION:Floris Game Night\nLooking for a fun\, low-key way to kick off your weekend? Come join us at Game Night at Floris UMC! Starting in October\, we’ll meet on the first Friday of every month from 6:30–9:00 p.m. in the Student Hangar downstairs for an evening of games\, laughter\, and community connection. \nThis monthly gathering is open to everyone—kids\, teens\, adults\, and grandparents alike. Whether you’re a diehard gamer who loves a challenge or someone who simply enjoys rolling dice and learning a new game\, you’ll find a place at the table. Bring along your favorite board game to share or jump in and try one of the many games provided by our leaders. \nFood makes everything better\, so feel free to bring a snack to share with the group. From casual party games to strategy classics\, you’ll have plenty of chances to laugh\, learn\, and bond with others in a welcoming\, friendly environment. \nThe best part? No RSVP required. Just show up\, bring a friend or family member\, and get ready for an evening filled with fun. Whether you stay for one round of your favorite game or make it through several epic adventures\, you’ll walk away with new connections and maybe even a new favorite board game. \nThis is more than just game night—it’s about building community and making space for joy. So mark your calendars\, bring your game face\, and let’s roll the dice together at Floris! \nFor more information\, contact Christine Hall.
URL:https://www.florisumc.org/event/game-night-2-2/2026-02-13/
LOCATION:Floris UMC\, 13600 Frying Pan Road\, Herndon\, VA\, 20171
CATEGORIES:Young Adults
ATTACH;FMTTYPE=image/png:https://www.florisumc.org/wp-content/uploads/2025/09/Web-982x519-1-1.png
ORGANIZER;CN="Megan Dietrick":MAILTO:mDietrick@florisumc.org
END:VEVENT
END:VCALENDAR