BEGIN:VCALENDAR
VERSION:2.0
PRODID:-//Floris United Methodist Church - ECPv6.15.20//NONSGML v1.0//EN
CALSCALE:GREGORIAN
METHOD:PUBLISH
X-ORIGINAL-URL:https://www.florisumc.org
X-WR-CALDESC:Events for Floris United Methodist Church
REFRESH-INTERVAL;VALUE=DURATION:PT1H
X-Robots-Tag:noindex
X-PUBLISHED-TTL:PT1H
BEGIN:VTIMEZONE
TZID:America/New_York
BEGIN:DAYLIGHT
TZOFFSETFROM:-0500
TZOFFSETTO:-0400
TZNAME:EDT
DTSTART:20250309T070000
END:DAYLIGHT
BEGIN:STANDARD
TZOFFSETFROM:-0400
TZOFFSETTO:-0500
TZNAME:EST
DTSTART:20251102T060000
END:STANDARD
BEGIN:DAYLIGHT
TZOFFSETFROM:-0500
TZOFFSETTO:-0400
TZNAME:EDT
DTSTART:20260308T070000
END:DAYLIGHT
BEGIN:STANDARD
TZOFFSETFROM:-0400
TZOFFSETTO:-0500
TZNAME:EST
DTSTART:20261101T060000
END:STANDARD
BEGIN:DAYLIGHT
TZOFFSETFROM:-0500
TZOFFSETTO:-0400
TZNAME:EDT
DTSTART:20270314T070000
END:DAYLIGHT
BEGIN:STANDARD
TZOFFSETFROM:-0400
TZOFFSETTO:-0500
TZNAME:EST
DTSTART:20271107T060000
END:STANDARD
END:VTIMEZONE
BEGIN:VEVENT
DTSTART;TZID=America/New_York:20260412T090000
DTEND;TZID=America/New_York:20260412T090000
DTSTAMP:20260419T080941
CREATED:20260313T231323Z
LAST-MODIFIED:20260314T000409Z
UID:10008719-1775984400-1775984400@www.florisumc.org
SUMMARY:Sunday Worship
DESCRIPTION:Sunday Worship at Floris UMC\nLooking for a place to connect\, grow\, and experience God’s love? Floris United Methodist Church invites you to join us for Sunday worship at 9:00 AM or 11:00 AM. Whether you’re new to the area\, exploring faith\, or looking for a church home\, you’ll find a warm and welcoming community here. \n\nA Worship Experience for Everyone\nOur Sunday services blend: \n\nMusic: Traditional hymns and contemporary worship songs\nPrayer & Scripture: Messages to inspire and uplift\nTeaching: Practical\, faith-centered guidance for everyday life\n\nChildren and youth aren’t just observers: \n\nKids’ worship programs make faith fun and interactive\nYouth spaces encourage connection\, growth\, and friendship\nOpportunities for participation help everyone engage meaningfully\n\n\nConnect With Community\nSundays at Floris UMC aren’t just about worship—they’re about community: \n\nMeet others and build relationships\nEnjoy coffee and conversation after service\nExplore programs for families\, students\, and adults\n\nEvery week brings a chance to grow spiritually\, serve others\, and strengthen your faith. \n\nAccessible and Welcoming\nWe want your first visit to be easy and comfortable: \n\nConvenient parking and accessible facilities\nFriendly volunteers to help you find your way\nTwo service options: 9:00 AM or 11:00 AM to fit your schedule\n\n\nCome As You Are\nBring your family\, friends\, or come on your own. At Floris UMC\, you’ll experience: \n\nRenewed faith\nEncouragement for your week\nConnection to a caring community\n\nWhether you’re a longtime churchgoer or visiting for the first time\, we invite you to discover how worship at Floris UMC can inspire\, strengthen\, and transform your life. We can’t wait to welcome you this Sunday! \n\nWorship With Us Online\nCan’t join us in person? You can still celebrate Palm Sunday with us from anywhere.\nJoin Our Online Service →
URL:https://www.florisumc.org/event/sunday-worship/2026-04-12/
LOCATION:Floris UMC\, 13600 Frying Pan Road\, Herndon\, VA\, 20171
CATEGORIES:Church Service,Indoor Worship
ATTACH;FMTTYPE=image/png:https://www.florisumc.org/wp-content/uploads/2026/03/Easter-Invitation-Web-Graphic-2.png
END:VEVENT
BEGIN:VEVENT
DTSTART;TZID=America/New_York:20260412T103000
DTEND;TZID=America/New_York:20260412T130000
DTSTAMP:20260419T080941
CREATED:20251003T152459Z
LAST-MODIFIED:20260325T140121Z
UID:10008364-1775989800-1775998800@www.florisumc.org
SUMMARY:Social Sundays
DESCRIPTION:Social Sundays\nLooking for a relaxed\, welcoming way to connect with others in the Floris community? Join us for Social Sundays\, a casual monthly brunch at Stone’s Cove Kitbar. Whether you’re new to the area\, a long-time resident\, or simply looking to meet friendly faces\, this is the perfect opportunity to enjoy good food and even better company in a laid-back setting. \nThere’s no formal agenda; just easy conversation\, laughter\, and time to build meaningful connections. Come solo\, bring a friend\, or gather the whole family. Everyone is welcome\, no matter your age or stage of life. You’ll find people from all walks of life\, and we’d love for you to be part of our growing community. \nWhile no one will be turned away\, registration is encouraged to help us plan for seating and refreshments. Stone’s Cove Kitbar offers a unique brunch experience with a menu full of flavorful options. From sweet treats to savory favorites\, plus a variety of beverages\, there’s something to delight every palate. You can check out the menu ahead of time at www.stonescove.com. \nAt Floris\, we believe community is built one conversation at a time\, and there’s no better way to start than over a delicious meal. Whether you stay for thirty minutes or the entire brunch\, you’ll leave with new connections\, warm memories\, and a sense of belonging. \nBring your appetite\, register today\, and join us for a morning of connection\, community\, and camaraderie. Let’s share laughter\, stories\, and a meal together—you won’t want to miss it! \n\nWe can’t wait to see you there. \nRegister Here >
URL:https://www.florisumc.org/event/social-sundays/2026-04-12/
LOCATION:Floris UMC\, 13600 Frying Pan Road\, Herndon\, VA\, 20171
CATEGORIES:Adult,Young Adults
ATTACH;FMTTYPE=image/png:https://www.florisumc.org/wp-content/uploads/2025/10/Web-Version-982x519-1.png
ORGANIZER;CN="Megan Dietrick":MAILTO:mDietrick@florisumc.org
END:VEVENT
BEGIN:VEVENT
DTSTART;TZID=America/New_York:20260412T110000
DTEND;TZID=America/New_York:20260412T110000
DTSTAMP:20260419T080941
CREATED:20260313T231813Z
LAST-MODIFIED:20260314T000317Z
UID:10009241-1775991600-1775991600@www.florisumc.org
SUMMARY:Sunday Worship
DESCRIPTION:Sunday Worship at Floris UMC\nLooking for a place to connect\, grow\, and experience God’s love? Floris United Methodist Church invites you to join us for Sunday worship at 9:00 AM or 11:00 AM. Whether you’re new to the area\, exploring faith\, or looking for a church home\, you’ll find a warm and welcoming community here. \n\nA Worship Experience for Everyone\nOur Sunday services blend: \n\nMusic: Traditional hymns and contemporary worship songs\nPrayer & Scripture: Messages to inspire and uplift\nTeaching: Practical\, faith-centered guidance for everyday life\n\nChildren and youth aren’t just observers: \n\nKids’ worship programs make faith fun and interactive\nYouth spaces encourage connection\, growth\, and friendship\nOpportunities for participation help everyone engage meaningfully\n\n\nConnect With Community\nSundays at Floris UMC aren’t just about worship—they’re about community: \n\nMeet others and build relationships\nEnjoy coffee and conversation after service\nExplore programs for families\, students\, and adults\n\nEvery week brings a chance to grow spiritually\, serve others\, and strengthen your faith. \n\nAccessible and Welcoming\nWe want your first visit to be easy and comfortable: \n\nConvenient parking and accessible facilities\nFriendly volunteers to help you find your way\nTwo service options: 9:00 AM or 11:00 AM to fit your schedule\n\n\nCome As You Are\nBring your family\, friends\, or come on your own. At Floris UMC\, you’ll experience: \n\nRenewed faith\nEncouragement for your week\nConnection to a caring community\n\nWhether you’re a longtime churchgoer or visiting for the first time\, we invite you to discover how worship at Floris UMC can inspire\, strengthen\, and transform your life. We can’t wait to welcome you this Sunday! \n\nWorship With Us Online\nCan’t join us in person? You can still celebrate Palm Sunday with us from anywhere.\nJoin Our Online Service →
URL:https://www.florisumc.org/event/sunday-worship-11/2026-04-12/
LOCATION:Floris UMC\, 13600 Frying Pan Road\, Herndon\, VA\, 20171
CATEGORIES:Church Service,Indoor Worship
ATTACH;FMTTYPE=image/png:https://www.florisumc.org/wp-content/uploads/2026/03/Easter-Invitation-Web-Graphic-2.png
END:VEVENT
BEGIN:VEVENT
DTSTART;TZID=America/New_York:20260416T180000
DTEND;TZID=America/New_York:20260416T190000
DTSTAMP:20260419T080941
CREATED:20251003T185838Z
LAST-MODIFIED:20251020T191835Z
UID:10008381-1776362400-1776366000@www.florisumc.org
SUMMARY:Pride Alliance Meetings
DESCRIPTION:Pride Alliance at Floris UMC\nThe Pride Alliance at Floris UMC is a vibrant\, welcoming community dedicated to fostering an inclusive and affirming environments for all individuals—regardless of sexual orientation or gender identity. We believe that every person is a beloved child of God\, deserving of respect\, love\, and belonging. \nOur mission is to create meaningful change both within our church and across the broader United Methodist denomination. We work closely with the Floris UMC Church Council to offer thoughtful recommendations and to help carry out approved actions that reflect our core values of love\, justice\, and equality. From advocating for inclusive language and policies to supporting initiatives that remove discrimination against LGBTQ+ individuals\, our efforts are rooted in faith and guided by the desire to see every person welcomed fully into the life of the church. \nThe Pride Alliance also serves as a restoration ministry\, intentionally engaging in conversations and actions that address inequities and challenge barriers faced by LGBTQ+ members in the church. Our work is both practical and spiritual: we advocate for systemic change while nurturing a safe\, supportive space for individuals to grow in their faith. \nMost importantly\, the Pride Alliance is a community of support\, love\, and healing. Whether you are exploring your faith\, seeking a space where you can be fully yourself\, or looking to connect with others committed to equality\, we are here to walk alongside you. \nJoin us and be part of a community committed to love\, equity\, and meaningful transformation. \nLearn More >
URL:https://www.florisumc.org/event/pride-alliance/2026-04-16/
LOCATION:VA
CATEGORIES:Pride Alliance
ATTACH;FMTTYPE=image/png:https://www.florisumc.org/wp-content/uploads/2025/10/Pride-Alliance.png
ORGANIZER;CN="Megan Dietrick":MAILTO:mDietrick@florisumc.org
END:VEVENT
BEGIN:VEVENT
DTSTART;TZID=America/New_York:20260416T180000
DTEND;TZID=America/New_York:20260416T200000
DTSTAMP:20260419T080941
CREATED:20260319T140421Z
LAST-MODIFIED:20260416T224531Z
UID:10009503-1776362400-1776369600@www.florisumc.org
SUMMARY:Faith250: Interfaith Dinner and Discussion
DESCRIPTION:Faith250: Interfaith Dinner & Discussion  \nEvent Overview\nYou are warmly invited to join us for an evening of connection\, reflection\, and meaningful dialogue at our upcoming Interfaith Dinner and Discussion. As part of our Faith250 Fellowship Night series\, we welcome the Floris UMC community on April 16 from 6:00 PM to 8:00 PM for a shared experience centered on listening\, learning\, and community-building. \nA Meaningful Moment\nThis gathering represents the third of four interfaith events created to bring people together across faith traditions during this once-in-a-generation moment in our nation’s history. It is an opportunity to pause\, reflect\, and engage with others as we consider both the promise and the complexity of the American story. \n<p “>Purpose of the Gathering\nTogether\, we aim to create a space where the richness of diverse perspectives is honored. Through open and guided conversation\, we will explore what it means to pursue a common good that is inclusive of the many identities\, beliefs\, and lived experiences that shape our democracy. This evening invites honest dialogue—not only about unity\, but also about the tensions and contradictions that are part of our shared history. \nWhat to Expect\nOver a shared meal\, participants will engage in thoughtful discussion designed to foster empathy\, curiosity\, and deeper understanding. Whether you come with questions\, personal experiences\, or simply a willingness to listen\, your voice and presence are valued. This is a space to connect\, reflect\, and grow together in community. \nVolunteer signup\nFloris UMC Community: Faith250 Event\nSignup Here? \nRegistration Details\nSpace is limited to ensure a meaningful and engaging experience for all participants. We encourage you to reserve your spot as soon as possible. \nRegister here > \nREGISTRATION IS NOW CLOSED! \nChildcare is also available for participants and volunteers. \nChildcare Registration > \nJoin the Conversation\nWe look forward to gathering with you for an evening rooted in dialogue\, connection\, and hope. Your participation helps strengthen a community committed to understanding\, respect\, and the shared pursuit of a more inclusive future. \nImportant NoticeThank you for registering for our next Faith250 Fellowship Night. As you attend\, you may notice a small film crew present from one of our national funders creating a mini-documentary about Faith250. The goal is to highlight many voices and provide a broad view of the program in order to raise awareness\, inspire other congregations\, and encourage greater support. Participation in the documentary is completely voluntary\, and the production crew will always seek permission before including any individual interviews.
URL:https://www.florisumc.org/event/faith250/
LOCATION:Floris UMC\, 13600 Frying Pan Road\, Herndon\, VA\, 20171
ATTACH;FMTTYPE=image/png:https://www.florisumc.org/wp-content/uploads/2026/03/2.png
END:VEVENT
BEGIN:VEVENT
DTSTART;TZID=America/New_York:20260417T173000
DTEND;TZID=America/New_York:20260417T190000
DTSTAMP:20260419T080941
CREATED:20260227T173455Z
LAST-MODIFIED:20260227T173455Z
UID:10008629-1776447000-1776452400@www.florisumc.org
SUMMARY:Messy Church: Brick Night
DESCRIPTION:Messy Church: Brick Night!\nDate & Time: Friday\, April 17\, 2026 | 5:30–7:00 PM\nLocation: Floris UMC\nCost: $5 per person\nRegister >\n\nWhat is Brick Night?\nBrick Night is a fun\, hands-on evening for families and kids to explore faith together. It’s all about building\, literally and spiritually!\n\nHands-on fun: Create your own delicious sub sandwiches.\nThemed treats: Enjoy a cute brick-inspired dessert.\nFaith in action: Activities and discussions that help grow your relationship with God.\n\n\nWhy Attend?\n\nConnect with others: Meet families and community members in a relaxed\, welcoming environment.\nFamily-friendly: Activities for all ages.\nMemorable experiences: Engage in interactive ways to learn and reflect on faith.\n\n\nHow to Join\n\nRegister >\nSpots open Feb 14 – Apr 18\, 2026\nPayment: $5 per person\n\n\nWho Should Come?\n\nFamilies with children of all ages\nAnyone looking for a fun\, interactive way to explore faith\nThose who enjoy hands-on activities\, fellowship\, and creativity\n\n\nDon’t Miss Out!\nBring your curiosity\, appetite\, and sense of fun. Build delicious creations\, joyful memories\, and stronger connections with God and your community at Messy Church: Brick Night!
URL:https://www.florisumc.org/event/messy-church-brick-night/
LOCATION:Floris UMC\, 13600 Frying Pan Road\, Herndon\, VA\, 20171
CATEGORIES:Messy Church
ATTACH;FMTTYPE=image/jpeg:https://www.florisumc.org/wp-content/uploads/2025/03/Brick-Night-03.jpg
ORGANIZER;CN="Wendy Hilbert":MAILTO:whilbert@florisumc.org
END:VEVENT
BEGIN:VEVENT
DTSTART;TZID=America/New_York:20260418T083000
DTEND;TZID=America/New_York:20260418T120000
DTSTAMP:20260419T080941
CREATED:20260324T183238Z
LAST-MODIFIED:20260408T142922Z
UID:10009510-1776501000-1776513600@www.florisumc.org
SUMMARY:Watershed and Grounds Clean-up Day
DESCRIPTION:Watershed and Grounds Clean-up Day\nCelebrate Earth Day Through Action\nIn celebration of Earth Day\, our Environmental Justice and Stewardship Team invites you to take part in a meaningful opportunity to care for God’s creation right here in our own community. We will be gathering to help clean the watershed area behind our church\, a protected natural space that plays an important role in our local ecosystem. \nWhy This Work Matters\nOver time\, rain and wind naturally carry litter and debris into nearby creekbeds and wetlands. While much of it may go unnoticed\, this buildup can have a lasting impact on the health of the land and waterways. By coming together to clean this area\, we are taking an active step in protecting and preserving a space that God has entrusted to us. \nProtecting Local Waterways\nThis watershed is not only part of our immediate environment\, but it is also connected to a much larger system of waterways. What enters these creekbeds can eventually make its way into the Potomac River and even the Chesapeake Bay. By removing litter at the source\, we are helping reduce pollution downstream and contributing to the long-term health of these vital waters. \nWho Can Participate\nThis event is open to everyone in the community\, and all ages are welcome to participate. Whether you are passionate about environmental stewardship\, looking for a hands-on way to serve\, or simply want to spend time outdoors making a difference\, this is a great opportunity to get involved. No prior experience is needed—just a willingness to help care for creation. \nVolunteer Sign-Up Information\nWe are seeking volunteers to help make this event possible\, with approximately 60 volunteers needed throughout the day. \n\nVolunteer shifts include: \n\n Setup\n Two 1.5-hour grounds cleanup shifts\n End cleanup\n\nIf you are able to serve\, please sign up using the link below: \nREGISTER HERE > \nWhat to Expect\nParticipants are encouraged to wear comfortable clothing and closed-toe shoes suitable for outdoor work. Gloves and any necessary cleanup supplies will be provided. We also recommend bringing water to stay hydrated as we work together. \nJoin Us in Caring for Creation\nMore than just a cleanup\, this is a chance to live out our shared responsibility to love and care for the world around us. As we serve together\, we are reminded that small acts of stewardship can have a lasting impact on our environment and our community. \nJoin us as we celebrate Earth Day by making a tangible difference. Together\, we can help restore and protect this beautiful watershed area for future generations.
URL:https://www.florisumc.org/event/clean-up-day/
LOCATION:Floris UMC\, 13600 Frying Pan Road\, Herndon\, VA\, 20171
CATEGORIES:Adult
ATTACH;FMTTYPE=image/png:https://www.florisumc.org/wp-content/uploads/2026/03/Web-982x519-27-e1775658544215.png
ORGANIZER;CN="Megan Dietrick":MAILTO:mDietrick@florisumc.org
END:VEVENT
END:VCALENDAR